BEGIN:VCALENDAR
VERSION:2.0
PRODID:-//Berean Baptist Church - ECPv6.15.20//NONSGML v1.0//EN
CALSCALE:GREGORIAN
METHOD:PUBLISH
X-ORIGINAL-URL:https://bereanmacon.org
X-WR-CALDESC:Events for Berean Baptist Church
REFRESH-INTERVAL;VALUE=DURATION:PT1H
X-Robots-Tag:noindex
X-PUBLISHED-TTL:PT1H
BEGIN:VTIMEZONE
TZID:America/New_York
BEGIN:DAYLIGHT
TZOFFSETFROM:-0500
TZOFFSETTO:-0400
TZNAME:EDT
DTSTART:20210314T070000
END:DAYLIGHT
BEGIN:STANDARD
TZOFFSETFROM:-0400
TZOFFSETTO:-0500
TZNAME:EST
DTSTART:20211107T060000
END:STANDARD
BEGIN:DAYLIGHT
TZOFFSETFROM:-0500
TZOFFSETTO:-0400
TZNAME:EDT
DTSTART:20220313T070000
END:DAYLIGHT
BEGIN:STANDARD
TZOFFSETFROM:-0400
TZOFFSETTO:-0500
TZNAME:EST
DTSTART:20221106T060000
END:STANDARD
BEGIN:DAYLIGHT
TZOFFSETFROM:-0500
TZOFFSETTO:-0400
TZNAME:EDT
DTSTART:20230312T070000
END:DAYLIGHT
BEGIN:STANDARD
TZOFFSETFROM:-0400
TZOFFSETTO:-0500
TZNAME:EST
DTSTART:20231105T060000
END:STANDARD
BEGIN:DAYLIGHT
TZOFFSETFROM:-0500
TZOFFSETTO:-0400
TZNAME:EDT
DTSTART:20240310T070000
END:DAYLIGHT
BEGIN:STANDARD
TZOFFSETFROM:-0400
TZOFFSETTO:-0500
TZNAME:EST
DTSTART:20241103T060000
END:STANDARD
END:VTIMEZONE
BEGIN:VEVENT
DTSTART;VALUE=DATE:20230406
DTEND;VALUE=DATE:20230408
DTSTAMP:20260419T160219
CREATED:20230324T185224Z
LAST-MODIFIED:20230324T185224Z
UID:2271-1680739200-1680911999@bereanmacon.org
SUMMARY:Ladies' Trip - The Living Gallery
DESCRIPTION:Bob Jones University\, Greenville\, SC
URL:https://bereanmacon.org/event/ladies-trip-the-living-gallery/
CATEGORIES:Upcoming Events
END:VEVENT
BEGIN:VEVENT
DTSTART;VALUE=DATE:20230329
DTEND;VALUE=DATE:20230402
DTSTAMP:20260419T160219
CREATED:20230210T161501Z
LAST-MODIFIED:20230210T161501Z
UID:2256-1680048000-1680393599@bereanmacon.org
SUMMARY:Men's Fishing Trip
DESCRIPTION:Steinhatchee\, FL
URL:https://bereanmacon.org/event/mens-fishing-trip-5/
CATEGORIES:Upcoming Events
END:VEVENT
BEGIN:VEVENT
DTSTART;TZID=America/New_York:20230326T180000
DTEND;TZID=America/New_York:20230326T190000
DTSTAMP:20260419T160219
CREATED:20230210T161416Z
LAST-MODIFIED:20230210T161416Z
UID:2254-1679853600-1679857200@bereanmacon.org
SUMMARY:Ladies' / Men's Fellowships
DESCRIPTION:
URL:https://bereanmacon.org/event/ladies-mens-fellowships-14/
CATEGORIES:Upcoming Events
END:VEVENT
BEGIN:VEVENT
DTSTART;TZID=America/New_York:20230312T170000
DTEND;TZID=America/New_York:20230312T200000
DTSTAMP:20260419T160219
CREATED:20230210T161341Z
LAST-MODIFIED:20230210T161341Z
UID:2252-1678640400-1678651200@bereanmacon.org
SUMMARY:Small Groups Fellowships
DESCRIPTION:See your teacher for details
URL:https://bereanmacon.org/event/small-groups-fellowships/
CATEGORIES:Upcoming Events
END:VEVENT
BEGIN:VEVENT
DTSTART;TZID=America/New_York:20230226T180000
DTEND;TZID=America/New_York:20230226T190000
DTSTAMP:20260419T160219
CREATED:20230210T161231Z
LAST-MODIFIED:20230210T161231Z
UID:2250-1677434400-1677438000@bereanmacon.org
SUMMARY:Ladies' / Men's Meetings
DESCRIPTION:
URL:https://bereanmacon.org/event/ladies-mens-meetings-8/
CATEGORIES:Upcoming Events
END:VEVENT
BEGIN:VEVENT
DTSTART;VALUE=DATE:20230219
DTEND;VALUE=DATE:20230220
DTSTAMP:20260419T160219
CREATED:20230210T161126Z
LAST-MODIFIED:20230210T161144Z
UID:2248-1676764800-1676851199@bereanmacon.org
SUMMARY:Missionary Tony Applegate & Family
DESCRIPTION:Missionaries to Uganda
URL:https://bereanmacon.org/event/missionary-tony-applegate-family/
CATEGORIES:Upcoming Events
END:VEVENT
BEGIN:VEVENT
DTSTART;TZID=America/New_York:20230214T113000
DTEND;TZID=America/New_York:20230214T123000
DTSTAMP:20260419T160219
CREATED:20230210T160950Z
LAST-MODIFIED:20230210T160950Z
UID:2246-1676374200-1676377800@bereanmacon.org
SUMMARY:PrimeTimers Valentine's Lunch
DESCRIPTION:Meet at Red Lobster on Riverside Drive
URL:https://bereanmacon.org/event/primetimers-valentines-lunch/
CATEGORIES:Upcoming Events
END:VEVENT
BEGIN:VEVENT
DTSTART;TZID=America/New_York:20221127T180000
DTEND;TZID=America/New_York:20221127T190000
DTSTAMP:20260419T160219
CREATED:20220921T164822Z
LAST-MODIFIED:20220921T164822Z
UID:2200-1669572000-1669575600@bereanmacon.org
SUMMARY:Ladies' / Men's Meetings
DESCRIPTION:
URL:https://bereanmacon.org/event/ladies-mens-meetings-7/
CATEGORIES:Upcoming Events
END:VEVENT
BEGIN:VEVENT
DTSTART;VALUE=DATE:20221124
DTEND;VALUE=DATE:20221125
DTSTAMP:20260419T160219
CREATED:20220921T163800Z
LAST-MODIFIED:20220921T163800Z
UID:2192-1669248000-1669334399@bereanmacon.org
SUMMARY:Give Thanks!
DESCRIPTION:
URL:https://bereanmacon.org/event/give-thanks/
CATEGORIES:Upcoming Events
END:VEVENT
BEGIN:VEVENT
DTSTART;TZID=America/New_York:20221122T190000
DTEND;TZID=America/New_York:20221122T200000
DTSTAMP:20260419T160219
CREATED:20220921T163953Z
LAST-MODIFIED:20220921T163953Z
UID:2194-1669143600-1669147200@bereanmacon.org
SUMMARY:Mid-week Service
DESCRIPTION:Tuesday instead of Wednesday night
URL:https://bereanmacon.org/event/mid-week-service/
CATEGORIES:Upcoming Events
END:VEVENT
BEGIN:VEVENT
DTSTART;TZID=America/New_York:20221115T110000
DTEND;TZID=America/New_York:20221115T130000
DTSTAMP:20260419T160219
CREATED:20220921T165012Z
LAST-MODIFIED:20220921T165012Z
UID:2202-1668510000-1668517200@bereanmacon.org
SUMMARY:PrimeTimers - Lunch at the Garden Patch
DESCRIPTION:Meet at the church for transportation
URL:https://bereanmacon.org/event/primetimers-lunch-at-the-garden-patch/
CATEGORIES:Upcoming Events
END:VEVENT
BEGIN:VEVENT
DTSTART;TZID=America/New_York:20221106T180000
DTEND;TZID=America/New_York:20221106T190000
DTSTAMP:20260419T160219
CREATED:20220921T163712Z
LAST-MODIFIED:20220921T163712Z
UID:2190-1667757600-1667761200@bereanmacon.org
SUMMARY:The David Warren Family
DESCRIPTION:Ministry through music and the Word
URL:https://bereanmacon.org/event/the-david-warren-family-2/
CATEGORIES:Upcoming Events
END:VEVENT
BEGIN:VEVENT
DTSTART;TZID=America/New_York:20221030T170000
DTEND;TZID=America/New_York:20221030T190000
DTSTAMP:20260419T160219
CREATED:20220921T164429Z
LAST-MODIFIED:20220921T164429Z
UID:2198-1667149200-1667156400@bereanmacon.org
SUMMARY:Fall Family Cookout
DESCRIPTION:
URL:https://bereanmacon.org/event/fall-family-cookout/
CATEGORIES:Upcoming Events
END:VEVENT
BEGIN:VEVENT
DTSTART;TZID=America/New_York:20221023T180000
DTEND;TZID=America/New_York:20221023T190000
DTSTAMP:20260419T160219
CREATED:20220921T164101Z
LAST-MODIFIED:20220921T164101Z
UID:2196-1666548000-1666551600@bereanmacon.org
SUMMARY:Ladies' / Men's Meetings
DESCRIPTION:
URL:https://bereanmacon.org/event/ladies-mens-meetings-6/
CATEGORIES:Upcoming Events
END:VEVENT
BEGIN:VEVENT
DTSTART;TZID=America/New_York:20221018T113000
DTEND;TZID=America/New_York:20221018T123000
DTSTAMP:20260419T160219
CREATED:20220921T163401Z
LAST-MODIFIED:20220921T163401Z
UID:2187-1666092600-1666096200@bereanmacon.org
SUMMARY:PrimeTimers: Lunch at Fincher's
DESCRIPTION:Meet at Fincher’s: 5627 Houston Rd.
URL:https://bereanmacon.org/event/primetimers-lunch-at-finchers/
CATEGORIES:Upcoming Events
END:VEVENT
BEGIN:VEVENT
DTSTART;VALUE=DATE:20221016
DTEND;VALUE=DATE:20221017
DTSTAMP:20260419T160219
CREATED:20220921T163209Z
LAST-MODIFIED:20220921T163534Z
UID:2185-1665878400-1665964799@bereanmacon.org
SUMMARY:Missionary Josh Stewart - Taiwan
DESCRIPTION:
URL:https://bereanmacon.org/event/missionary-josh-stewart-taiwan/
CATEGORIES:Upcoming Events
END:VEVENT
BEGIN:VEVENT
DTSTART;TZID=America/New_York:20221009T170000
DTEND;TZID=America/New_York:20221009T190000
DTSTAMP:20260419T160219
CREATED:20220921T163108Z
LAST-MODIFIED:20220921T163604Z
UID:2183-1665334800-1665342000@bereanmacon.org
SUMMARY:Small Group Fellowships in PM
DESCRIPTION:See your teacher for details
URL:https://bereanmacon.org/event/small-group-fellowships/
CATEGORIES:Upcoming Events
END:VEVENT
BEGIN:VEVENT
DTSTART;TZID=America/New_York:20221002T110000
DTEND;TZID=America/New_York:20221002T120000
DTSTAMP:20260419T160219
CREATED:20220921T162949Z
LAST-MODIFIED:20220921T162949Z
UID:2181-1664708400-1664712000@bereanmacon.org
SUMMARY:Lord's Supper Service
DESCRIPTION:
URL:https://bereanmacon.org/event/lords-supper-service-20/
CATEGORIES:Upcoming Events
END:VEVENT
BEGIN:VEVENT
DTSTART;TZID=America/New_York:20220925T110000
DTEND;TZID=America/New_York:20220925T120000
DTSTAMP:20260419T160219
CREATED:20220921T162904Z
LAST-MODIFIED:20220921T162904Z
UID:2179-1664103600-1664107200@bereanmacon.org
SUMMARY:Faith Promise Commitment Sunday
DESCRIPTION:
URL:https://bereanmacon.org/event/faith-promise-commitment-sunday/
CATEGORIES:Upcoming Events
END:VEVENT
BEGIN:VEVENT
DTSTART;TZID=America/New_York:20220924T110000
DTEND;TZID=America/New_York:20220924T123000
DTSTAMP:20260419T160219
CREATED:20220921T162814Z
LAST-MODIFIED:20220921T162814Z
UID:2177-1664017200-1664022600@bereanmacon.org
SUMMARY:Ladies' Missions Luncheon
DESCRIPTION:At Pastor and Tina’s home – 5780 Wakefield Way\, Macon
URL:https://bereanmacon.org/event/ladies-missions-luncheon/
CATEGORIES:Upcoming Events
END:VEVENT
BEGIN:VEVENT
DTSTART;VALUE=DATE:20220916
DTEND;VALUE=DATE:20220919
DTSTAMP:20260419T160219
CREATED:20220309T204013Z
LAST-MODIFIED:20220309T204013Z
UID:2057-1663286400-1663545599@bereanmacon.org
SUMMARY:Faith Promise Missions Conference
DESCRIPTION:
URL:https://bereanmacon.org/event/faith-promise-missions-conference/
CATEGORIES:Upcoming Events
END:VEVENT
BEGIN:VEVENT
DTSTART;TZID=America/New_York:20220829T190000
DTEND;TZID=America/New_York:20220829T200000
DTSTAMP:20260419T160219
CREATED:20220701T162437Z
LAST-MODIFIED:20220701T162437Z
UID:2141-1661799600-1661803200@bereanmacon.org
SUMMARY:Ladies Bible Study
DESCRIPTION:Meet at the church
URL:https://bereanmacon.org/event/ladies-bible-study-6/
CATEGORIES:Upcoming Events
END:VEVENT
BEGIN:VEVENT
DTSTART;TZID=America/New_York:20220828T180000
DTEND;TZID=America/New_York:20220828T190000
DTSTAMP:20260419T160219
CREATED:20220701T163412Z
LAST-MODIFIED:20220701T163412Z
UID:2147-1661709600-1661713200@bereanmacon.org
SUMMARY:Ladies'/Men's Meetings
DESCRIPTION:
URL:https://bereanmacon.org/event/ladies-mens-meetings-5/
CATEGORIES:Upcoming Events
END:VEVENT
BEGIN:VEVENT
DTSTART;TZID=America/New_York:20220821T190000
DTEND;TZID=America/New_York:20220821T193000
DTSTAMP:20260419T160219
CREATED:20220701T163339Z
LAST-MODIFIED:20220701T163339Z
UID:2145-1661108400-1661110200@bereanmacon.org
SUMMARY:Annual Administration Meeting
DESCRIPTION:Election of committees and ministry positions following the evening service
URL:https://bereanmacon.org/event/annual-administration-meeting/
CATEGORIES:Upcoming Events
END:VEVENT
BEGIN:VEVENT
DTSTART;TZID=America/New_York:20220818T130000
DTEND;TZID=America/New_York:20220818T200000
DTSTAMP:20260419T160219
CREATED:20220701T161757Z
LAST-MODIFIED:20220701T161757Z
UID:2135-1660827600-1660852800@bereanmacon.org
SUMMARY:Citizen Impact Annual Conference
DESCRIPTION:Berean Baptist Church in Lilburn\, GA
URL:https://bereanmacon.org/event/citizen-impact-annual-conference-2/
CATEGORIES:Upcoming Events
END:VEVENT
BEGIN:VEVENT
DTSTART;TZID=America/New_York:20220816T140000
DTEND;TZID=America/New_York:20220816T150000
DTSTAMP:20260419T160219
CREATED:20220701T162540Z
LAST-MODIFIED:20220701T162540Z
UID:2143-1660658400-1660662000@bereanmacon.org
SUMMARY:PrimeTimers - Old Times Country Buffet
DESCRIPTION:
URL:https://bereanmacon.org/event/primetimers-old-times-country-buffet/
CATEGORIES:Upcoming Events
END:VEVENT
BEGIN:VEVENT
DTSTART;TZID=America/New_York:20220815T190000
DTEND;TZID=America/New_York:20220815T200000
DTSTAMP:20260419T160219
CREATED:20220701T162249Z
LAST-MODIFIED:20220701T162249Z
UID:2139-1660590000-1660593600@bereanmacon.org
SUMMARY:Ladies Bible Study
DESCRIPTION:Meet at the church
URL:https://bereanmacon.org/event/ladies-bible-study-5/
CATEGORIES:Upcoming Events
END:VEVENT
BEGIN:VEVENT
DTSTART;TZID=America/New_York:20220813T180000
DTEND;TZID=America/New_York:20220813T200000
DTSTAMP:20260419T160219
CREATED:20220722T145414Z
LAST-MODIFIED:20220722T145414Z
UID:2155-1660413600-1660420800@bereanmacon.org
SUMMARY:Men's Fish Fry
DESCRIPTION:Meet at the church
URL:https://bereanmacon.org/event/mens-fish-fry/
CATEGORIES:Upcoming Events
END:VEVENT
BEGIN:VEVENT
DTSTART;TZID=America/New_York:20220801T190000
DTEND;TZID=America/New_York:20220801T200000
DTSTAMP:20260419T160219
CREATED:20220701T162208Z
LAST-MODIFIED:20220701T162343Z
UID:2137-1659380400-1659384000@bereanmacon.org
SUMMARY:Ladies Bible Study
DESCRIPTION:Meet at the church
URL:https://bereanmacon.org/event/ladies-bible-study-4/
CATEGORIES:Upcoming Events
END:VEVENT
BEGIN:VEVENT
DTSTART;TZID=America/New_York:20220731T180000
DTEND;TZID=America/New_York:20220731T190000
DTSTAMP:20260419T160219
CREATED:20220701T161647Z
LAST-MODIFIED:20220701T161647Z
UID:2133-1659290400-1659294000@bereanmacon.org
SUMMARY:Ladies'/Men's Meetings
DESCRIPTION:
URL:https://bereanmacon.org/event/ladies-mens-meetings-4/
CATEGORIES:Upcoming Events
END:VEVENT
END:VCALENDAR