BEGIN:VCALENDAR
VERSION:2.0
PRODID:-//Berean Baptist Church - ECPv6.15.20//NONSGML v1.0//EN
CALSCALE:GREGORIAN
METHOD:PUBLISH
X-WR-CALNAME:Berean Baptist Church
X-ORIGINAL-URL:https://bereanmacon.org
X-WR-CALDESC:Events for Berean Baptist Church
REFRESH-INTERVAL;VALUE=DURATION:PT1H
X-Robots-Tag:noindex
X-PUBLISHED-TTL:PT1H
BEGIN:VTIMEZONE
TZID:America/New_York
BEGIN:DAYLIGHT
TZOFFSETFROM:-0500
TZOFFSETTO:-0400
TZNAME:EDT
DTSTART:20210314T070000
END:DAYLIGHT
BEGIN:STANDARD
TZOFFSETFROM:-0400
TZOFFSETTO:-0500
TZNAME:EST
DTSTART:20211107T060000
END:STANDARD
BEGIN:DAYLIGHT
TZOFFSETFROM:-0500
TZOFFSETTO:-0400
TZNAME:EDT
DTSTART:20220313T070000
END:DAYLIGHT
BEGIN:STANDARD
TZOFFSETFROM:-0400
TZOFFSETTO:-0500
TZNAME:EST
DTSTART:20221106T060000
END:STANDARD
BEGIN:DAYLIGHT
TZOFFSETFROM:-0500
TZOFFSETTO:-0400
TZNAME:EDT
DTSTART:20230312T070000
END:DAYLIGHT
BEGIN:STANDARD
TZOFFSETFROM:-0400
TZOFFSETTO:-0500
TZNAME:EST
DTSTART:20231105T060000
END:STANDARD
END:VTIMEZONE
BEGIN:VEVENT
DTSTART;VALUE=DATE:20220916
DTEND;VALUE=DATE:20220919
DTSTAMP:20260419T194457
CREATED:20220309T204013Z
LAST-MODIFIED:20220309T204013Z
UID:2057-1663286400-1663545599@bereanmacon.org
SUMMARY:Faith Promise Missions Conference
DESCRIPTION:
URL:https://bereanmacon.org/event/faith-promise-missions-conference/
CATEGORIES:Upcoming Events
END:VEVENT
BEGIN:VEVENT
DTSTART;TZID=America/New_York:20220829T190000
DTEND;TZID=America/New_York:20220829T200000
DTSTAMP:20260419T194457
CREATED:20220701T162437Z
LAST-MODIFIED:20220701T162437Z
UID:2141-1661799600-1661803200@bereanmacon.org
SUMMARY:Ladies Bible Study
DESCRIPTION:Meet at the church
URL:https://bereanmacon.org/event/ladies-bible-study-6/
CATEGORIES:Upcoming Events
END:VEVENT
BEGIN:VEVENT
DTSTART;TZID=America/New_York:20220828T180000
DTEND;TZID=America/New_York:20220828T190000
DTSTAMP:20260419T194457
CREATED:20220701T163412Z
LAST-MODIFIED:20220701T163412Z
UID:2147-1661709600-1661713200@bereanmacon.org
SUMMARY:Ladies'/Men's Meetings
DESCRIPTION:
URL:https://bereanmacon.org/event/ladies-mens-meetings-5/
CATEGORIES:Upcoming Events
END:VEVENT
BEGIN:VEVENT
DTSTART;TZID=America/New_York:20220821T190000
DTEND;TZID=America/New_York:20220821T193000
DTSTAMP:20260419T194457
CREATED:20220701T163339Z
LAST-MODIFIED:20220701T163339Z
UID:2145-1661108400-1661110200@bereanmacon.org
SUMMARY:Annual Administration Meeting
DESCRIPTION:Election of committees and ministry positions following the evening service
URL:https://bereanmacon.org/event/annual-administration-meeting/
CATEGORIES:Upcoming Events
END:VEVENT
BEGIN:VEVENT
DTSTART;TZID=America/New_York:20220818T130000
DTEND;TZID=America/New_York:20220818T200000
DTSTAMP:20260419T194457
CREATED:20220701T161757Z
LAST-MODIFIED:20220701T161757Z
UID:2135-1660827600-1660852800@bereanmacon.org
SUMMARY:Citizen Impact Annual Conference
DESCRIPTION:Berean Baptist Church in Lilburn\, GA
URL:https://bereanmacon.org/event/citizen-impact-annual-conference-2/
CATEGORIES:Upcoming Events
END:VEVENT
BEGIN:VEVENT
DTSTART;TZID=America/New_York:20220816T140000
DTEND;TZID=America/New_York:20220816T150000
DTSTAMP:20260419T194457
CREATED:20220701T162540Z
LAST-MODIFIED:20220701T162540Z
UID:2143-1660658400-1660662000@bereanmacon.org
SUMMARY:PrimeTimers - Old Times Country Buffet
DESCRIPTION:
URL:https://bereanmacon.org/event/primetimers-old-times-country-buffet/
CATEGORIES:Upcoming Events
END:VEVENT
BEGIN:VEVENT
DTSTART;TZID=America/New_York:20220815T190000
DTEND;TZID=America/New_York:20220815T200000
DTSTAMP:20260419T194457
CREATED:20220701T162249Z
LAST-MODIFIED:20220701T162249Z
UID:2139-1660590000-1660593600@bereanmacon.org
SUMMARY:Ladies Bible Study
DESCRIPTION:Meet at the church
URL:https://bereanmacon.org/event/ladies-bible-study-5/
CATEGORIES:Upcoming Events
END:VEVENT
BEGIN:VEVENT
DTSTART;TZID=America/New_York:20220813T180000
DTEND;TZID=America/New_York:20220813T200000
DTSTAMP:20260419T194457
CREATED:20220722T145414Z
LAST-MODIFIED:20220722T145414Z
UID:2155-1660413600-1660420800@bereanmacon.org
SUMMARY:Men's Fish Fry
DESCRIPTION:Meet at the church
URL:https://bereanmacon.org/event/mens-fish-fry/
CATEGORIES:Upcoming Events
END:VEVENT
BEGIN:VEVENT
DTSTART;TZID=America/New_York:20220801T190000
DTEND;TZID=America/New_York:20220801T200000
DTSTAMP:20260419T194457
CREATED:20220701T162208Z
LAST-MODIFIED:20220701T162343Z
UID:2137-1659380400-1659384000@bereanmacon.org
SUMMARY:Ladies Bible Study
DESCRIPTION:Meet at the church
URL:https://bereanmacon.org/event/ladies-bible-study-4/
CATEGORIES:Upcoming Events
END:VEVENT
BEGIN:VEVENT
DTSTART;TZID=America/New_York:20220731T180000
DTEND;TZID=America/New_York:20220731T190000
DTSTAMP:20260419T194457
CREATED:20220701T161647Z
LAST-MODIFIED:20220701T161647Z
UID:2133-1659290400-1659294000@bereanmacon.org
SUMMARY:Ladies'/Men's Meetings
DESCRIPTION:
URL:https://bereanmacon.org/event/ladies-mens-meetings-4/
CATEGORIES:Upcoming Events
END:VEVENT
BEGIN:VEVENT
DTSTART;TZID=America/New_York:20220719T110000
DTEND;TZID=America/New_York:20220719T140000
DTSTAMP:20260419T194457
CREATED:20220701T161544Z
LAST-MODIFIED:20220701T161544Z
UID:2131-1658228400-1658239200@bereanmacon.org
SUMMARY:PrimeTimers - Lane Southern Orchards
DESCRIPTION:Meet at the church
URL:https://bereanmacon.org/event/primetimers-lane-southern-orchards-2/
CATEGORIES:Upcoming Events
END:VEVENT
BEGIN:VEVENT
DTSTART;TZID=America/New_York:20220718T190000
DTEND;TZID=America/New_York:20220718T200000
DTSTAMP:20260419T194457
CREATED:20220701T161219Z
LAST-MODIFIED:20220701T161219Z
UID:2125-1658170800-1658174400@bereanmacon.org
SUMMARY:Ladies Bible Study
DESCRIPTION:Meet at the church
URL:https://bereanmacon.org/event/ladies-bible-study-3/
CATEGORIES:Upcoming Events
END:VEVENT
BEGIN:VEVENT
DTSTART;TZID=America/New_York:20220713T190000
DTEND;TZID=America/New_York:20220713T200000
DTSTAMP:20260419T194457
CREATED:20220701T161444Z
LAST-MODIFIED:20220701T161444Z
UID:2129-1657738800-1657742400@bereanmacon.org
SUMMARY:Allen & Hagit Lord - Israel
DESCRIPTION:
URL:https://bereanmacon.org/event/allen-hagit-lord-israel/
CATEGORIES:Upcoming Events
END:VEVENT
BEGIN:VEVENT
DTSTART;TZID=America/New_York:20220710T170000
DTEND;TZID=America/New_York:20220710T190000
DTSTAMP:20260419T194457
CREATED:20220701T161349Z
LAST-MODIFIED:20220701T161349Z
UID:2127-1657472400-1657479600@bereanmacon.org
SUMMARY:Sunday School Summer Fellowships
DESCRIPTION:Contact your teacher for details
URL:https://bereanmacon.org/event/sunday-school-summer-fellowships/
CATEGORIES:Upcoming Events
END:VEVENT
BEGIN:VEVENT
DTSTART;TZID=America/New_York:20220710T110000
DTEND;TZID=America/New_York:20220710T120000
DTSTAMP:20260419T194457
CREATED:20220610T150718Z
LAST-MODIFIED:20220610T150718Z
UID:2116-1657450800-1657454400@bereanmacon.org
SUMMARY:Lord's Supper Service
DESCRIPTION:
URL:https://bereanmacon.org/event/lords-supper-service-19/
CATEGORIES:Upcoming Events
END:VEVENT
BEGIN:VEVENT
DTSTART;TZID=America/New_York:20220709T080000
DTEND;TZID=America/New_York:20220709T090000
DTSTAMP:20260419T194457
CREATED:20220610T150457Z
LAST-MODIFIED:20220610T150457Z
UID:2112-1657353600-1657357200@bereanmacon.org
SUMMARY:Men & Boys' Breakfast
DESCRIPTION:
URL:https://bereanmacon.org/event/men-boys-breakfast/
CATEGORIES:Upcoming Events
END:VEVENT
BEGIN:VEVENT
DTSTART;TZID=America/New_York:20220705T190000
DTEND;TZID=America/New_York:20220705T200000
DTSTAMP:20260419T194457
CREATED:20220701T161137Z
LAST-MODIFIED:20220701T161137Z
UID:2123-1657047600-1657051200@bereanmacon.org
SUMMARY:Ladies Bible Study
DESCRIPTION:Meet at the church
URL:https://bereanmacon.org/event/ladies-bible-study-2/
CATEGORIES:Upcoming Events
END:VEVENT
BEGIN:VEVENT
DTSTART;TZID=America/New_York:20220626T180000
DTEND;TZID=America/New_York:20220626T190000
DTSTAMP:20260419T194457
CREATED:20220421T195719Z
LAST-MODIFIED:20220421T195719Z
UID:2082-1656266400-1656270000@bereanmacon.org
SUMMARY:Ladies'/Men's Meetings
DESCRIPTION:
URL:https://bereanmacon.org/event/ladies-mens-meetings-3/
CATEGORIES:Upcoming Events
END:VEVENT
BEGIN:VEVENT
DTSTART;TZID=America/New_York:20220620T190000
DTEND;TZID=America/New_York:20220620T200000
DTSTAMP:20260419T194457
CREATED:20220610T150632Z
LAST-MODIFIED:20220610T150632Z
UID:2114-1655751600-1655755200@bereanmacon.org
SUMMARY:Ladies Bible Study
DESCRIPTION:Meet at the church. Contact Tina Bowker for details.
URL:https://bereanmacon.org/event/ladies-bible-study/
CATEGORIES:Upcoming Events
END:VEVENT
BEGIN:VEVENT
DTSTART;VALUE=DATE:20220620
DTEND;VALUE=DATE:20220626
DTSTAMP:20260419T194457
CREATED:20220114T153029Z
LAST-MODIFIED:20220114T153029Z
UID:2016-1655683200-1656201599@bereanmacon.org
SUMMARY:Teen Extreme Youth Camp
DESCRIPTION:
URL:https://bereanmacon.org/event/teen-extreme-youth-camp-4/
CATEGORIES:Upcoming Events
END:VEVENT
BEGIN:VEVENT
DTSTART;VALUE=DATE:20220619
DTEND;VALUE=DATE:20220620
DTSTAMP:20260419T194457
CREATED:20220421T195236Z
LAST-MODIFIED:20220421T195236Z
UID:2078-1655596800-1655683199@bereanmacon.org
SUMMARY:Happy Father's Day!
DESCRIPTION:
URL:https://bereanmacon.org/event/happy-fathers-day-2/
CATEGORIES:Upcoming Events
END:VEVENT
BEGIN:VEVENT
DTSTART;TZID=America/New_York:20220529T180000
DTEND;TZID=America/New_York:20220529T190000
DTSTAMP:20260419T194457
CREATED:20220421T195138Z
LAST-MODIFIED:20220421T195742Z
UID:2076-1653847200-1653850800@bereanmacon.org
SUMMARY:Ladies'/Men's Meetings
DESCRIPTION:
URL:https://bereanmacon.org/event/ladies-mens-fellowship-meetings-14/
CATEGORIES:Upcoming Events
END:VEVENT
BEGIN:VEVENT
DTSTART;TZID=America/New_York:20220526T110000
DTEND;TZID=America/New_York:20220526T140000
DTSTAMP:20260419T194457
CREATED:20220421T195603Z
LAST-MODIFIED:20220520T130947Z
UID:2080-1653562800-1653573600@bereanmacon.org
SUMMARY:PrimeTimers: Shoney's & Dickey Farms
DESCRIPTION:Meet at the Church
URL:https://bereanmacon.org/event/primetimers-hudsons-bbq-dickey-farms/
CATEGORIES:Upcoming Events
END:VEVENT
BEGIN:VEVENT
DTSTART;TZID=America/New_York:20220525T183000
DTEND;TZID=America/New_York:20220525T200000
DTSTAMP:20260419T194457
CREATED:20220520T131146Z
LAST-MODIFIED:20220520T131146Z
UID:2097-1653503400-1653508800@bereanmacon.org
SUMMARY:Kids & Teens: Summer Kick-off Party!
DESCRIPTION:
URL:https://bereanmacon.org/event/kids-teens-summer-kick-off-party/
CATEGORIES:Upcoming Events
END:VEVENT
BEGIN:VEVENT
DTSTART;TZID=America/New_York:20220522T180000
DTEND;TZID=America/New_York:20220522T193000
DTSTAMP:20260419T194457
CREATED:20220520T131327Z
LAST-MODIFIED:20220520T131327Z
UID:2101-1653242400-1653247800@bereanmacon.org
SUMMARY:Ordination Service for Brian Bowker
DESCRIPTION:Reception to follow
URL:https://bereanmacon.org/event/ordination-service-for-brian-bowker/
CATEGORIES:Upcoming Events
END:VEVENT
BEGIN:VEVENT
DTSTART;TZID=America/New_York:20220522T110000
DTEND;TZID=America/New_York:20220522T120000
DTSTAMP:20260419T194457
CREATED:20220520T131233Z
LAST-MODIFIED:20220520T131233Z
UID:2099-1653217200-1653220800@bereanmacon.org
SUMMARY:Graduate Recognition Sunday
DESCRIPTION:
URL:https://bereanmacon.org/event/graduate-recognition-sunday/
CATEGORIES:Upcoming Events
END:VEVENT
BEGIN:VEVENT
DTSTART;TZID=America/New_York:20220514T111500
DTEND;TZID=America/New_York:20220514T133000
DTSTAMP:20260419T194457
CREATED:20220421T194853Z
LAST-MODIFIED:20220421T194853Z
UID:2072-1652526900-1652535000@bereanmacon.org
SUMMARY:Ladies' Game Time!
DESCRIPTION:Hosted by the Grace Class  Meet at the church for transportation
URL:https://bereanmacon.org/event/ladies-game-time-3/
CATEGORIES:Upcoming Events
END:VEVENT
BEGIN:VEVENT
DTSTART;TZID=America/New_York:20220514T080000
DTEND;TZID=America/New_York:20220514T090000
DTSTAMP:20260419T194457
CREATED:20220421T194731Z
LAST-MODIFIED:20220421T194731Z
UID:2070-1652515200-1652518800@bereanmacon.org
SUMMARY:Men's Fellowship Breakfast
DESCRIPTION:Bring a friend!
URL:https://bereanmacon.org/event/mens-fellowship-breakfast-8/
CATEGORIES:Upcoming Events
END:VEVENT
BEGIN:VEVENT
DTSTART;VALUE=DATE:20220508
DTEND;VALUE=DATE:20220509
DTSTAMP:20260419T194457
CREATED:20220309T203750Z
LAST-MODIFIED:20220309T203750Z
UID:2053-1651968000-1652054399@bereanmacon.org
SUMMARY:Happy Mother's Day!
DESCRIPTION:
URL:https://bereanmacon.org/event/happy-mothers-day-2/
CATEGORIES:Upcoming Events
END:VEVENT
BEGIN:VEVENT
DTSTART;TZID=America/New_York:20220424T180000
DTEND;TZID=America/New_York:20220424T190000
DTSTAMP:20260419T194457
CREATED:20220309T203604Z
LAST-MODIFIED:20220309T203604Z
UID:2049-1650823200-1650826800@bereanmacon.org
SUMMARY:Ladies'/Men's Meetings
DESCRIPTION:
URL:https://bereanmacon.org/event/ladies-mens-meetings-2/
CATEGORIES:Upcoming Events
END:VEVENT
END:VCALENDAR