BEGIN:VCALENDAR
VERSION:2.0
PRODID:-//Berean Baptist Church - ECPv6.15.20//NONSGML v1.0//EN
CALSCALE:GREGORIAN
METHOD:PUBLISH
X-ORIGINAL-URL:https://bereanmacon.org
X-WR-CALDESC:Events for Berean Baptist Church
REFRESH-INTERVAL;VALUE=DURATION:PT1H
X-Robots-Tag:noindex
X-PUBLISHED-TTL:PT1H
BEGIN:VTIMEZONE
TZID:America/New_York
BEGIN:DAYLIGHT
TZOFFSETFROM:-0500
TZOFFSETTO:-0400
TZNAME:EDT
DTSTART:20200308T070000
END:DAYLIGHT
BEGIN:STANDARD
TZOFFSETFROM:-0400
TZOFFSETTO:-0500
TZNAME:EST
DTSTART:20201101T060000
END:STANDARD
BEGIN:DAYLIGHT
TZOFFSETFROM:-0500
TZOFFSETTO:-0400
TZNAME:EDT
DTSTART:20210314T070000
END:DAYLIGHT
BEGIN:STANDARD
TZOFFSETFROM:-0400
TZOFFSETTO:-0500
TZNAME:EST
DTSTART:20211107T060000
END:STANDARD
BEGIN:DAYLIGHT
TZOFFSETFROM:-0500
TZOFFSETTO:-0400
TZNAME:EDT
DTSTART:20220313T070000
END:DAYLIGHT
BEGIN:STANDARD
TZOFFSETFROM:-0400
TZOFFSETTO:-0500
TZNAME:EST
DTSTART:20221106T060000
END:STANDARD
BEGIN:DAYLIGHT
TZOFFSETFROM:-0500
TZOFFSETTO:-0400
TZNAME:EDT
DTSTART:20230312T070000
END:DAYLIGHT
BEGIN:STANDARD
TZOFFSETFROM:-0400
TZOFFSETTO:-0500
TZNAME:EST
DTSTART:20231105T060000
END:STANDARD
END:VTIMEZONE
BEGIN:VEVENT
DTSTART;TZID=America/New_York:20220227T180000
DTEND;TZID=America/New_York:20220227T190000
DTSTAMP:20260425T083654
CREATED:20220114T152633Z
LAST-MODIFIED:20220114T152633Z
UID:2010-1645984800-1645988400@bereanmacon.org
SUMMARY:Ladies'/Men's Fellowship Meetings
DESCRIPTION:
URL:https://bereanmacon.org/event/ladies-mens-fellowship-meetings-12/
CATEGORIES:Upcoming Events
END:VEVENT
BEGIN:VEVENT
DTSTART;TZID=America/New_York:20220219T100000
DTEND;TZID=America/New_York:20220219T120000
DTSTAMP:20260425T083654
CREATED:20220114T152557Z
LAST-MODIFIED:20220114T152557Z
UID:2008-1645264800-1645272000@bereanmacon.org
SUMMARY:Wreath-making Class for Ladies
DESCRIPTION:Details TBA
URL:https://bereanmacon.org/event/wreath-making-class-for-ladies/
CATEGORIES:Upcoming Events
END:VEVENT
BEGIN:VEVENT
DTSTART;TZID=America/New_York:20220215T113000
DTEND;TZID=America/New_York:20220215T123000
DTSTAMP:20260425T083654
CREATED:20220114T153246Z
LAST-MODIFIED:20220114T153246Z
UID:2018-1644924600-1644928200@bereanmacon.org
SUMMARY:PrimeTimers Valentines Lunch @ Red Lobster
DESCRIPTION:Meet at the restaurant
URL:https://bereanmacon.org/event/primetimers-valentines-lunch-red-lobster-2/
CATEGORIES:Upcoming Events
END:VEVENT
BEGIN:VEVENT
DTSTART;TZID=America/New_York:20220212T080000
DTEND;TZID=America/New_York:20220212T090000
DTSTAMP:20260425T083654
CREATED:20220114T152500Z
LAST-MODIFIED:20220114T152500Z
UID:2006-1644652800-1644656400@bereanmacon.org
SUMMARY:Men's Fellowship Breakfast
DESCRIPTION:
URL:https://bereanmacon.org/event/mens-fellowship-breakfast-6/
CATEGORIES:Upcoming Events
END:VEVENT
BEGIN:VEVENT
DTSTART;TZID=America/New_York:20220130T180000
DTEND;TZID=America/New_York:20220130T190000
DTSTAMP:20260425T083654
CREATED:20220114T152331Z
LAST-MODIFIED:20220114T152331Z
UID:2002-1643565600-1643569200@bereanmacon.org
SUMMARY:Ladies'/Men's Fellowship Meetings
DESCRIPTION:
URL:https://bereanmacon.org/event/ladies-mens-fellowship-meetings-11/
CATEGORIES:Upcoming Events
END:VEVENT
BEGIN:VEVENT
DTSTART;TZID=America/New_York:20220122T100000
DTEND;TZID=America/New_York:20220122T120000
DTSTAMP:20260425T083654
CREATED:20220114T152158Z
LAST-MODIFIED:20220114T152158Z
UID:1998-1642845600-1642852800@bereanmacon.org
SUMMARY:Bow-Making Class for Ladies
DESCRIPTION:Bring $5 and a shoebox; Child care up through age 3
URL:https://bereanmacon.org/event/bow-making-class-for-ladies/
CATEGORIES:Upcoming Events
END:VEVENT
BEGIN:VEVENT
DTSTART;TZID=America/New_York:20220118T113000
DTEND;TZID=America/New_York:20220118T123000
DTSTAMP:20260425T083654
CREATED:20220114T152249Z
LAST-MODIFIED:20220114T152249Z
UID:2000-1642505400-1642509000@bereanmacon.org
SUMMARY:PrimeTimers Lunch at Golden Corral
DESCRIPTION:Meet at the restaurant
URL:https://bereanmacon.org/event/primetimers-lunch-at-golden-corral-2/
CATEGORIES:Upcoming Events
END:VEVENT
BEGIN:VEVENT
DTSTART;TZID=America/New_York:20220116T180000
DTEND;TZID=America/New_York:20220116T190000
DTSTAMP:20260425T083654
CREATED:20220114T152035Z
LAST-MODIFIED:20220114T152035Z
UID:1996-1642356000-1642359600@bereanmacon.org
SUMMARY:David & Vickie Zimmerman\, Missionaries to Quebec
DESCRIPTION:
URL:https://bereanmacon.org/event/david-vickie-zimmerman-missionaries-to-quebec/
CATEGORIES:Upcoming Events
END:VEVENT
BEGIN:VEVENT
DTSTART;TZID=America/New_York:20220115T080000
DTEND;TZID=America/New_York:20220115T090000
DTSTAMP:20260425T083654
CREATED:20220114T152407Z
LAST-MODIFIED:20220114T152407Z
UID:2004-1642233600-1642237200@bereanmacon.org
SUMMARY:Men's Fellowship Breakfast
DESCRIPTION:
URL:https://bereanmacon.org/event/mens-fellowship-breakfast-5/
CATEGORIES:Upcoming Events
END:VEVENT
BEGIN:VEVENT
DTSTART;VALUE=DATE:20211229
DTEND;VALUE=DATE:20211230
DTSTAMP:20260425T083654
CREATED:20211208T173243Z
LAST-MODIFIED:20211208T173243Z
UID:1984-1640736000-1640822399@bereanmacon.org
SUMMARY:No PM Service or Activities
DESCRIPTION:
URL:https://bereanmacon.org/event/no-pm-service-or-activities/
CATEGORIES:Upcoming Events
END:VEVENT
BEGIN:VEVENT
DTSTART;TZID=America/New_York:20211226T100000
DTEND;TZID=America/New_York:20211226T110000
DTSTAMP:20260425T083654
CREATED:20210719T202021Z
LAST-MODIFIED:20211208T172432Z
UID:1920-1640512800-1640516400@bereanmacon.org
SUMMARY:AM Service only at 10:00
DESCRIPTION:No Sunday school or PM Service
URL:https://bereanmacon.org/event/no-pm-service/
CATEGORIES:Upcoming Events
END:VEVENT
BEGIN:VEVENT
DTSTART;VALUE=DATE:20211225
DTEND;VALUE=DATE:20211226
DTSTAMP:20260425T083654
CREATED:20210719T201904Z
LAST-MODIFIED:20210719T201904Z
UID:1918-1640390400-1640476799@bereanmacon.org
SUMMARY:Merry Christmas!
DESCRIPTION:“Thanks be unto God for His unspeakable gift!”
URL:https://bereanmacon.org/event/merry-christmas/
CATEGORIES:Upcoming Events
END:VEVENT
BEGIN:VEVENT
DTSTART;TZID=America/New_York:20211222T190000
DTEND;TZID=America/New_York:20211222T200000
DTSTAMP:20260425T083654
CREATED:20211208T172950Z
LAST-MODIFIED:20211208T172950Z
UID:1980-1640199600-1640203200@bereanmacon.org
SUMMARY:Family Christmas Service
DESCRIPTION:
URL:https://bereanmacon.org/event/family-christmas-service-3/
CATEGORIES:Upcoming Events
END:VEVENT
BEGIN:VEVENT
DTSTART;TZID=America/New_York:20211219T180000
DTEND;TZID=America/New_York:20211219T190000
DTSTAMP:20260425T083654
CREATED:20210719T201214Z
LAST-MODIFIED:20210719T201214Z
UID:1912-1639936800-1639940400@bereanmacon.org
SUMMARY:Christmas Lord's Supper Service
DESCRIPTION:
URL:https://bereanmacon.org/event/christmas-lords-supper-service-2/
CATEGORIES:Upcoming Events
END:VEVENT
BEGIN:VEVENT
DTSTART;TZID=America/New_York:20211214T120000
DTEND;TZID=America/New_York:20211214T130000
DTSTAMP:20260425T083654
CREATED:20210719T200816Z
LAST-MODIFIED:20211208T172626Z
UID:1908-1639483200-1639486800@bereanmacon.org
SUMMARY:PrimeTimers - Lunch at Macon Crab House
DESCRIPTION:Meet at the Restaurant
URL:https://bereanmacon.org/event/primetimers-lunch-at-the-crab-house-2/
CATEGORIES:Upcoming Events
END:VEVENT
BEGIN:VEVENT
DTSTART;TZID=America/New_York:20211212T170000
DTEND;TZID=America/New_York:20211212T200000
DTSTAMP:20260425T083654
CREATED:20211208T173131Z
LAST-MODIFIED:20211208T173131Z
UID:1982-1639328400-1639339200@bereanmacon.org
SUMMARY:Sunday School Class Fellowships
DESCRIPTION:No regular PM service
URL:https://bereanmacon.org/event/sunday-school-class-fellowships/
CATEGORIES:Upcoming Events
END:VEVENT
BEGIN:VEVENT
DTSTART;TZID=America/New_York:20211212T110000
DTEND;TZID=America/New_York:20211212T120000
DTSTAMP:20260425T083654
CREATED:20211020T164545Z
LAST-MODIFIED:20211208T172738Z
UID:1960-1639306800-1639310400@bereanmacon.org
SUMMARY:"Bethlehem Story" Choir Program
DESCRIPTION:Invite a guest to hear the true meaning of the Christmas story!
URL:https://bereanmacon.org/event/bethlehem-story-choir-program/
CATEGORIES:Upcoming Events
END:VEVENT
BEGIN:VEVENT
DTSTART;TZID=America/New_York:20211205T120000
DTEND;TZID=America/New_York:20211205T133000
DTSTAMP:20260425T083654
CREATED:20211020T164358Z
LAST-MODIFIED:20211020T164358Z
UID:1958-1638705600-1638711000@bereanmacon.org
SUMMARY:Widow's / Widower's Christmas Lunch
DESCRIPTION:Hosted by our Deacons
URL:https://bereanmacon.org/event/widows-widowers-christmas-lunch/
CATEGORIES:Upcoming Events
END:VEVENT
BEGIN:VEVENT
DTSTART;TZID=America/New_York:20211128T180000
DTEND;TZID=America/New_York:20211128T190000
DTSTAMP:20260425T083654
CREATED:20211020T164143Z
LAST-MODIFIED:20211020T164143Z
UID:1956-1638122400-1638126000@bereanmacon.org
SUMMARY:Ladies' / Men's Meetings
DESCRIPTION:
URL:https://bereanmacon.org/event/ladies-mens-meetings/
CATEGORIES:Upcoming Events
END:VEVENT
BEGIN:VEVENT
DTSTART;VALUE=DATE:20211125
DTEND;VALUE=DATE:20211126
DTSTAMP:20260425T083654
CREATED:20210719T200653Z
LAST-MODIFIED:20210719T200653Z
UID:1906-1637798400-1637884799@bereanmacon.org
SUMMARY:Happy Thanksgiving!
DESCRIPTION:
URL:https://bereanmacon.org/event/happy-thanksgiving-2/
CATEGORIES:Upcoming Events
END:VEVENT
BEGIN:VEVENT
DTSTART;TZID=America/New_York:20211123T190000
DTEND;TZID=America/New_York:20211123T200000
DTSTAMP:20260425T083654
CREATED:20210719T201339Z
LAST-MODIFIED:20210719T201339Z
UID:1914-1637694000-1637697600@bereanmacon.org
SUMMARY:Midweek Service
DESCRIPTION:Tuesday instead of Wednesday night!
URL:https://bereanmacon.org/event/midweek-service-2/
CATEGORIES:Upcoming Events
END:VEVENT
BEGIN:VEVENT
DTSTART;TZID=America/New_York:20211121T180000
DTEND;TZID=America/New_York:20211121T193000
DTSTAMP:20260425T083654
CREATED:20210719T201627Z
LAST-MODIFIED:20210719T201627Z
UID:1916-1637517600-1637523000@bereanmacon.org
SUMMARY:Praise Service
DESCRIPTION:
URL:https://bereanmacon.org/event/praise-service/
CATEGORIES:Upcoming Events
END:VEVENT
BEGIN:VEVENT
DTSTART;TZID=America/New_York:20211120T080000
DTEND;TZID=America/New_York:20211120T090000
DTSTAMP:20260425T083654
CREATED:20210719T200600Z
LAST-MODIFIED:20211020T163759Z
UID:1904-1637395200-1637398800@bereanmacon.org
SUMMARY:Men's Fellowship Breakfast
DESCRIPTION:
URL:https://bereanmacon.org/event/mens-fellowship-breakfast-4/
CATEGORIES:Upcoming Events
END:VEVENT
BEGIN:VEVENT
DTSTART;TZID=America/New_York:20211116T113000
DTEND;TZID=America/New_York:20211116T123000
DTSTAMP:20260425T083654
CREATED:20210719T200518Z
LAST-MODIFIED:20211105T142906Z
UID:1902-1637062200-1637065800@bereanmacon.org
SUMMARY:PrimeTimers Lunch at Fincher's BBQ
DESCRIPTION:Meet at the restaurant – 5627 Houston Road\, Macon
URL:https://bereanmacon.org/event/primetimers-garden-patch-barnesville/
CATEGORIES:Upcoming Events
END:VEVENT
BEGIN:VEVENT
DTSTART;TZID=America/New_York:20211107T180000
DTEND;TZID=America/New_York:20211107T193000
DTSTAMP:20260425T083654
CREATED:20211020T170343Z
LAST-MODIFIED:20211020T170343Z
UID:1962-1636308000-1636313400@bereanmacon.org
SUMMARY:Chili Supper & Homemade Pie Contest
DESCRIPTION:
URL:https://bereanmacon.org/event/chili-supper-homemade-pie-contest/
CATEGORIES:Upcoming Events
END:VEVENT
BEGIN:VEVENT
DTSTART;TZID=America/New_York:20211024T183000
DTEND;TZID=America/New_York:20211024T190000
DTSTAMP:20260425T083654
CREATED:20210719T200247Z
LAST-MODIFIED:20210719T200247Z
UID:1900-1635100200-1635102000@bereanmacon.org
SUMMARY:Ladies' Fellowship / Men's Bible Study
DESCRIPTION:
URL:https://bereanmacon.org/event/ladies-fellowship-mens-bible-study-2/
CATEGORIES:Upcoming Events
END:VEVENT
BEGIN:VEVENT
DTSTART;TZID=America/New_York:20211019T113000
DTEND;TZID=America/New_York:20211019T123000
DTSTAMP:20260425T083654
CREATED:20210719T200048Z
LAST-MODIFIED:20210910T150251Z
UID:1896-1634643000-1634646600@bereanmacon.org
SUMMARY:PrimeTimers - Lunch at S&S Cafeteria
DESCRIPTION:Meet at the restaurant on Riverside Drive
URL:https://bereanmacon.org/event/primetimers-yoders-restaurant-browns-farm-market/
CATEGORIES:Upcoming Events
END:VEVENT
BEGIN:VEVENT
DTSTART;TZID=America/New_York:20211009T080000
DTEND;TZID=America/New_York:20211009T090000
DTSTAMP:20260425T083654
CREATED:20210719T195744Z
LAST-MODIFIED:20210719T195744Z
UID:1894-1633766400-1633770000@bereanmacon.org
SUMMARY:Men's Fellowship Breakfast
DESCRIPTION:
URL:https://bereanmacon.org/event/mens-fellowship-breakfast-3/
CATEGORIES:Upcoming Events
END:VEVENT
BEGIN:VEVENT
DTSTART;TZID=America/New_York:20211003T110000
DTEND;TZID=America/New_York:20211003T120000
DTSTAMP:20260425T083654
CREATED:20210719T195658Z
LAST-MODIFIED:20210719T195658Z
UID:1892-1633258800-1633262400@bereanmacon.org
SUMMARY:Lord's Supper Service
DESCRIPTION:
URL:https://bereanmacon.org/event/lords-supper-service-17/
CATEGORIES:Upcoming Events
END:VEVENT
BEGIN:VEVENT
DTSTART;TZID=America/New_York:20210926T180000
DTEND;TZID=America/New_York:20210926T190000
DTSTAMP:20260425T083654
CREATED:20210719T195529Z
LAST-MODIFIED:20210719T195529Z
UID:1890-1632679200-1632682800@bereanmacon.org
SUMMARY:Ladies' Fellowship / Men's Bible Study
DESCRIPTION:
URL:https://bereanmacon.org/event/ladies-fellowship-mens-bible-study/
CATEGORIES:Upcoming Events
END:VEVENT
END:VCALENDAR