BEGIN:VCALENDAR
VERSION:2.0
PRODID:-//Berean Baptist Church - ECPv6.15.20//NONSGML v1.0//EN
CALSCALE:GREGORIAN
METHOD:PUBLISH
X-WR-CALNAME:Berean Baptist Church
X-ORIGINAL-URL:https://bereanmacon.org
X-WR-CALDESC:Events for Berean Baptist Church
REFRESH-INTERVAL;VALUE=DURATION:PT1H
X-Robots-Tag:noindex
X-PUBLISHED-TTL:PT1H
BEGIN:VTIMEZONE
TZID:America/New_York
BEGIN:DAYLIGHT
TZOFFSETFROM:-0500
TZOFFSETTO:-0400
TZNAME:EDT
DTSTART:20190310T070000
END:DAYLIGHT
BEGIN:STANDARD
TZOFFSETFROM:-0400
TZOFFSETTO:-0500
TZNAME:EST
DTSTART:20191103T060000
END:STANDARD
BEGIN:DAYLIGHT
TZOFFSETFROM:-0500
TZOFFSETTO:-0400
TZNAME:EDT
DTSTART:20200308T070000
END:DAYLIGHT
BEGIN:STANDARD
TZOFFSETFROM:-0400
TZOFFSETTO:-0500
TZNAME:EST
DTSTART:20201101T060000
END:STANDARD
BEGIN:DAYLIGHT
TZOFFSETFROM:-0500
TZOFFSETTO:-0400
TZNAME:EDT
DTSTART:20210314T070000
END:DAYLIGHT
BEGIN:STANDARD
TZOFFSETFROM:-0400
TZOFFSETTO:-0500
TZNAME:EST
DTSTART:20211107T060000
END:STANDARD
BEGIN:DAYLIGHT
TZOFFSETFROM:-0500
TZOFFSETTO:-0400
TZNAME:EDT
DTSTART:20220313T070000
END:DAYLIGHT
BEGIN:STANDARD
TZOFFSETFROM:-0400
TZOFFSETTO:-0500
TZNAME:EST
DTSTART:20221106T060000
END:STANDARD
END:VTIMEZONE
BEGIN:VEVENT
DTSTART;VALUE=DATE:20210509
DTEND;VALUE=DATE:20210510
DTSTAMP:20260425T174634
CREATED:20210430T145321Z
LAST-MODIFIED:20210430T145321Z
UID:1820-1620518400-1620604799@bereanmacon.org
SUMMARY:Happy Mother's Day!
DESCRIPTION:
URL:https://bereanmacon.org/event/happy-mothers-day/
CATEGORIES:Upcoming Events
END:VEVENT
BEGIN:VEVENT
DTSTART;VALUE=DATE:20210502
DTEND;VALUE=DATE:20210503
DTSTAMP:20260425T174634
CREATED:20210205T192453Z
LAST-MODIFIED:20210205T193034Z
UID:1786-1619913600-1619999999@bereanmacon.org
SUMMARY:Missionary Ryan Pennington - Thailand
DESCRIPTION:
URL:https://bereanmacon.org/event/missionary-ryan-pennington-thailand/
CATEGORIES:Upcoming Events
END:VEVENT
BEGIN:VEVENT
DTSTART;VALUE=DATE:20210404
DTEND;VALUE=DATE:20210405
DTSTAMP:20260425T174634
CREATED:20210205T191950Z
LAST-MODIFIED:20210205T191950Z
UID:1782-1617494400-1617580799@bereanmacon.org
SUMMARY:Resurrection Sunday!
DESCRIPTION:
URL:https://bereanmacon.org/event/resurrection-sunday-5/
CATEGORIES:Upcoming Events
END:VEVENT
BEGIN:VEVENT
DTSTART;VALUE=DATE:20210325
DTEND;VALUE=DATE:20210328
DTSTAMP:20260425T174634
CREATED:20210205T191907Z
LAST-MODIFIED:20210205T191907Z
UID:1780-1616630400-1616889599@bereanmacon.org
SUMMARY:Men's Fishing Trip-Steinhatchee\, FL
DESCRIPTION:
URL:https://bereanmacon.org/event/mens-fishing-trip-steinhatchee-fl-2/
CATEGORIES:Upcoming Events
END:VEVENT
BEGIN:VEVENT
DTSTART;TZID=America/New_York:20210316T113000
DTEND;TZID=America/New_York:20210316T130000
DTSTAMP:20260425T174634
CREATED:20210205T191812Z
LAST-MODIFIED:20210205T191812Z
UID:1778-1615894200-1615899600@bereanmacon.org
SUMMARY:PrimeTimers - Lunch at Cheddar's
DESCRIPTION:Meet at the restaurant
URL:https://bereanmacon.org/event/primetimers-lunch-at-cheddars/
CATEGORIES:Upcoming Events
END:VEVENT
BEGIN:VEVENT
DTSTART;TZID=America/New_York:20210214T100000
DTEND;TZID=America/New_York:20210214T120000
DTSTAMP:20260425T174634
CREATED:20201007T201147Z
LAST-MODIFIED:20201007T201147Z
UID:1719-1613296800-1613304000@bereanmacon.org
SUMMARY:Missionary Jon Flowers - Taiwan
DESCRIPTION:
URL:https://bereanmacon.org/event/missionary-jon-flowers-taiwan/
END:VEVENT
BEGIN:VEVENT
DTSTART;TZID=America/New_York:20210211T103000
DTEND;TZID=America/New_York:20210211T133000
DTSTAMP:20260425T174634
CREATED:20210205T191412Z
LAST-MODIFIED:20210205T194126Z
UID:1776-1613039400-1613050200@bereanmacon.org
SUMMARY:PrimeTimers Lunch at Hudson's BBQ
DESCRIPTION:Meet at the church at 10:45 a.m.
URL:https://bereanmacon.org/event/primetimers-hudsons-bbq/
CATEGORIES:Upcoming Events
END:VEVENT
BEGIN:VEVENT
DTSTART;TZID=America/New_York:20210210T190000
DTEND;TZID=America/New_York:20210210T200000
DTSTAMP:20260425T174634
CREATED:20210205T192309Z
LAST-MODIFIED:20210205T192309Z
UID:1784-1612983600-1612987200@bereanmacon.org
SUMMARY:Truth Trackers Valentine's Party
DESCRIPTION:
URL:https://bereanmacon.org/event/truth-trackers-valentines-party/
CATEGORIES:Upcoming Events
END:VEVENT
BEGIN:VEVENT
DTSTART;TZID=America/New_York:20210113T190000
DTEND;TZID=America/New_York:20210113T200000
DTSTAMP:20260425T174634
CREATED:20210108T201130Z
LAST-MODIFIED:20210108T201130Z
UID:1765-1610564400-1610568000@bereanmacon.org
SUMMARY:Resume In-person Services
DESCRIPTION:Beginning tonight and moving forward
URL:https://bereanmacon.org/event/resume-in-person-services/
CATEGORIES:Upcoming Events
END:VEVENT
BEGIN:VEVENT
DTSTART;VALUE=DATE:20210110
DTEND;VALUE=DATE:20210111
DTSTAMP:20260425T174634
CREATED:20210108T201012Z
LAST-MODIFIED:20210108T201012Z
UID:1763-1610236800-1610323199@bereanmacon.org
SUMMARY:No In-person Services
DESCRIPTION:Facebook Live Broadcast at 10 a.m.
URL:https://bereanmacon.org/event/no-in-person-services/
CATEGORIES:Upcoming Events
END:VEVENT
BEGIN:VEVENT
DTSTART;VALUE=DATE:20210101
DTEND;VALUE=DATE:20210102
DTSTAMP:20260425T174634
CREATED:20201130T203901Z
LAST-MODIFIED:20201130T203928Z
UID:1747-1609459200-1609545599@bereanmacon.org
SUMMARY:Praying for God's Blessings in the New Year!
DESCRIPTION:
URL:https://bereanmacon.org/event/gods-blessings-for-the-new-year/
CATEGORIES:Upcoming Events
END:VEVENT
BEGIN:VEVENT
DTSTART;VALUE=DATE:20201230
DTEND;VALUE=DATE:20201231
DTSTAMP:20260425T174634
CREATED:20201007T201050Z
LAST-MODIFIED:20201007T201050Z
UID:1717-1609286400-1609372799@bereanmacon.org
SUMMARY:No Midweek Service
DESCRIPTION:Regular midweek service will resume on Wednesday\, January 6
URL:https://bereanmacon.org/event/no-midweek-service-3/
END:VEVENT
BEGIN:VEVENT
DTSTART;VALUE=DATE:20201225
DTEND;VALUE=DATE:20201226
DTSTAMP:20260425T174634
CREATED:20200911T191519Z
LAST-MODIFIED:20200911T191519Z
UID:1698-1608854400-1608940799@bereanmacon.org
SUMMARY:"Unto you is born a Savior." Merry Christmas!
DESCRIPTION:
URL:https://bereanmacon.org/event/unto-you-is-born-a-savior-merry-christmas/
CATEGORIES:Upcoming Events
END:VEVENT
BEGIN:VEVENT
DTSTART;TZID=America/New_York:20201222T190000
DTEND;TZID=America/New_York:20201222T200000
DTSTAMP:20260425T174634
CREATED:20201130T203145Z
LAST-MODIFIED:20201130T203445Z
UID:1745-1608663600-1608667200@bereanmacon.org
SUMMARY:Family Christmas Service
DESCRIPTION:An informal time of singing\, testimonies\, and fellowship!
URL:https://bereanmacon.org/event/family-christmas-service-2/
CATEGORIES:Upcoming Events
END:VEVENT
BEGIN:VEVENT
DTSTART;TZID=America/New_York:20201220T180000
DTEND;TZID=America/New_York:20201220T190000
DTSTAMP:20260425T174634
CREATED:20201130T202959Z
LAST-MODIFIED:20201130T202959Z
UID:1743-1608487200-1608490800@bereanmacon.org
SUMMARY:Lord's Supper Service
DESCRIPTION:
URL:https://bereanmacon.org/event/lords-supper-service-15/
CATEGORIES:Upcoming Events
END:VEVENT
BEGIN:VEVENT
DTSTART;TZID=America/New_York:20201220T110000
DTEND;TZID=America/New_York:20201220T120000
DTSTAMP:20260425T174634
CREATED:20201007T200606Z
LAST-MODIFIED:20201007T200704Z
UID:1714-1608462000-1608465600@bereanmacon.org
SUMMARY:"Celebrating the Savior's Birth!"
DESCRIPTION:The blessing of the music of Christmas. Join us!
URL:https://bereanmacon.org/event/celebrating-the-saviors-birth/
END:VEVENT
BEGIN:VEVENT
DTSTART;TZID=America/New_York:20201215T113000
DTEND;TZID=America/New_York:20201215T130000
DTSTAMP:20260425T174634
CREATED:20201130T202912Z
LAST-MODIFIED:20201130T202912Z
UID:1741-1608031800-1608037200@bereanmacon.org
SUMMARY:PrimeTimers Christmas Lunch
DESCRIPTION:Red Lobster – 2077 Riverside Dr. Macon
URL:https://bereanmacon.org/event/primetimers-christmas-lunch-2/
CATEGORIES:Upcoming Events
END:VEVENT
BEGIN:VEVENT
DTSTART;TZID=America/New_York:20201213T170000
DTEND;TZID=America/New_York:20201213T200000
DTSTAMP:20260425T174634
CREATED:20201130T202643Z
LAST-MODIFIED:20201130T203740Z
UID:1739-1607878800-1607889600@bereanmacon.org
SUMMARY:Sunday School Christmas Fellowships
DESCRIPTION:No Regular Evening Service
URL:https://bereanmacon.org/event/sunday-school-christmas-fellowships/
CATEGORIES:Upcoming Events
END:VEVENT
BEGIN:VEVENT
DTSTART;VALUE=DATE:20201126
DTEND;VALUE=DATE:20201127
DTSTAMP:20260425T174634
CREATED:20200911T191340Z
LAST-MODIFIED:20200911T191340Z
UID:1696-1606348800-1606435199@bereanmacon.org
SUMMARY:"O give thanks unto the Lord\, for He is good." Happy Thanksgiving!
DESCRIPTION:
URL:https://bereanmacon.org/event/o-give-thanks-unto-the-lord-for-he-is-good-happy-thanksgiving/
CATEGORIES:Upcoming Events
END:VEVENT
BEGIN:VEVENT
DTSTART;TZID=America/New_York:20201124T190000
DTEND;TZID=America/New_York:20201124T200000
DTSTAMP:20260425T174634
CREATED:20201007T200429Z
LAST-MODIFIED:20201007T200429Z
UID:1712-1606244400-1606248000@bereanmacon.org
SUMMARY:Midweek Service
DESCRIPTION:Thanksgiving week: Midweek service on Tuesday instead of Wednesday
URL:https://bereanmacon.org/event/midweek-service/
END:VEVENT
BEGIN:VEVENT
DTSTART;TZID=America/New_York:20201115T180000
DTEND;TZID=America/New_York:20201115T190000
DTSTAMP:20260425T174634
CREATED:20200911T184721Z
LAST-MODIFIED:20201007T200153Z
UID:1690-1605463200-1605466800@bereanmacon.org
SUMMARY:Next Step Recovery Ministries
DESCRIPTION:Hear the blessings of this ministry!
URL:https://bereanmacon.org/event/next-step-recovery-ministries/
CATEGORIES:Upcoming Events
END:VEVENT
BEGIN:VEVENT
DTSTART;TZID=America/New_York:20201103T070000
DTEND;TZID=America/New_York:20201103T190000
DTSTAMP:20260425T174634
CREATED:20201007T201328Z
LAST-MODIFIED:20201007T201328Z
UID:1721-1604386800-1604430000@bereanmacon.org
SUMMARY:Election Day
DESCRIPTION:Our freedom is a gift of God’s grace; let’s use it to vote today!
URL:https://bereanmacon.org/event/election-day/
END:VEVENT
BEGIN:VEVENT
DTSTART;TZID=America/New_York:20201011T100000
DTEND;TZID=America/New_York:20201011T120000
DTSTAMP:20260425T174634
CREATED:20200911T184537Z
LAST-MODIFIED:20200911T184537Z
UID:1688-1602410400-1602417600@bereanmacon.org
SUMMARY:Paul Smith\, Citizen Impact
DESCRIPTION:Ministering in Sunday school and the AM service
URL:https://bereanmacon.org/event/paul-smith-citizen-impact-2/
CATEGORIES:Upcoming Events
END:VEVENT
BEGIN:VEVENT
DTSTART;TZID=America/New_York:20201004T180000
DTEND;TZID=America/New_York:20201004T190000
DTSTAMP:20260425T174634
CREATED:20200911T184424Z
LAST-MODIFIED:20201007T200953Z
UID:1686-1601834400-1601838000@bereanmacon.org
SUMMARY:The Warren Family
DESCRIPTION:David Warren and his family will minister in music and the Word.  Join us!
URL:https://bereanmacon.org/event/the-warren-family/
CATEGORIES:Upcoming Events
END:VEVENT
BEGIN:VEVENT
DTSTART;TZID=America/New_York:20200913T090000
DTEND;TZID=America/New_York:20200913T120000
DTSTAMP:20260425T174634
CREATED:20200827T195507Z
LAST-MODIFIED:20220601T152208Z
UID:1653-1599987600-1599998400@bereanmacon.org
SUMMARY:"Lift Up Your Eyes" Faith Promise Missions Sunday
DESCRIPTION:Join us for 3 sessions focused on World Missions! \n9:00 a.m. – Message by Bro. Bud Bierman \n10:00 a.m. – Missionary Presentation \n11:00 a.m. – Message by Bro. Bud Bierman; Faith Promise Missions Offering
URL:https://bereanmacon.org/event/lift-up-your-eyes-faith-promise-missions-sunday/
CATEGORIES:Upcoming Events
END:VEVENT
BEGIN:VEVENT
DTSTART;VALUE=DATE:20200809
DTEND;VALUE=DATE:20200810
DTSTAMP:20260425T174634
CREATED:20200320T171137Z
LAST-MODIFIED:20200619T155454Z
UID:1582-1596931200-1597017599@bereanmacon.org
SUMMARY:Church Anniversary Sunday
DESCRIPTION:
URL:https://bereanmacon.org/event/church-anniversary-sunday/
CATEGORIES:Upcoming Events
END:VEVENT
BEGIN:VEVENT
DTSTART;VALUE=DATE:20200621
DTEND;VALUE=DATE:20200622
DTSTAMP:20260425T174634
CREATED:20200320T170908Z
LAST-MODIFIED:20200320T170908Z
UID:1576-1592697600-1592783999@bereanmacon.org
SUMMARY:Father's Day
DESCRIPTION:
URL:https://bereanmacon.org/event/fathers-day/
CATEGORIES:Upcoming Events
END:VEVENT
BEGIN:VEVENT
DTSTART;VALUE=DATE:20200510
DTEND;VALUE=DATE:20200511
DTSTAMP:20260425T174634
CREATED:20200320T170619Z
LAST-MODIFIED:20200320T171253Z
UID:1570-1589068800-1589155199@bereanmacon.org
SUMMARY:Mother's Day!
DESCRIPTION:
URL:https://bereanmacon.org/event/mothers-day/
CATEGORIES:Upcoming Events
END:VEVENT
BEGIN:VEVENT
DTSTART;VALUE=DATE:20200412
DTEND;VALUE=DATE:20200413
DTSTAMP:20260425T174634
CREATED:20200113T210937Z
LAST-MODIFIED:20200113T210937Z
UID:1528-1586649600-1586735999@bereanmacon.org
SUMMARY:Resurrection Sunday!
DESCRIPTION:
URL:https://bereanmacon.org/event/resurrection-sunday-4/
CATEGORIES:Upcoming Events
END:VEVENT
BEGIN:VEVENT
DTSTART;VALUE=DATE:20200401
DTEND;VALUE=DATE:20200402
DTSTAMP:20260425T174634
CREATED:20200320T171641Z
LAST-MODIFIED:20200320T171641Z
UID:1588-1585699200-1585785599@bereanmacon.org
SUMMARY:No PM Activities
DESCRIPTION:
URL:https://bereanmacon.org/event/no-pm-activities/
CATEGORIES:Upcoming Events
END:VEVENT
END:VCALENDAR