BEGIN:VCALENDAR
VERSION:2.0
PRODID:-//Berean Baptist Church - ECPv6.15.20//NONSGML v1.0//EN
CALSCALE:GREGORIAN
METHOD:PUBLISH
X-ORIGINAL-URL:https://bereanmacon.org
X-WR-CALDESC:Events for Berean Baptist Church
REFRESH-INTERVAL;VALUE=DURATION:PT1H
X-Robots-Tag:noindex
X-PUBLISHED-TTL:PT1H
BEGIN:VTIMEZONE
TZID:America/New_York
BEGIN:DAYLIGHT
TZOFFSETFROM:-0500
TZOFFSETTO:-0400
TZNAME:EDT
DTSTART:20180311T070000
END:DAYLIGHT
BEGIN:STANDARD
TZOFFSETFROM:-0400
TZOFFSETTO:-0500
TZNAME:EST
DTSTART:20181104T060000
END:STANDARD
BEGIN:DAYLIGHT
TZOFFSETFROM:-0500
TZOFFSETTO:-0400
TZNAME:EDT
DTSTART:20190310T070000
END:DAYLIGHT
BEGIN:STANDARD
TZOFFSETFROM:-0400
TZOFFSETTO:-0500
TZNAME:EST
DTSTART:20191103T060000
END:STANDARD
BEGIN:DAYLIGHT
TZOFFSETFROM:-0500
TZOFFSETTO:-0400
TZNAME:EDT
DTSTART:20200308T070000
END:DAYLIGHT
BEGIN:STANDARD
TZOFFSETFROM:-0400
TZOFFSETTO:-0500
TZNAME:EST
DTSTART:20201101T060000
END:STANDARD
BEGIN:DAYLIGHT
TZOFFSETFROM:-0500
TZOFFSETTO:-0400
TZNAME:EDT
DTSTART:20210314T070000
END:DAYLIGHT
BEGIN:STANDARD
TZOFFSETFROM:-0400
TZOFFSETTO:-0500
TZNAME:EST
DTSTART:20211107T060000
END:STANDARD
END:VTIMEZONE
BEGIN:VEVENT
DTSTART;TZID=America/New_York:20201115T180000
DTEND;TZID=America/New_York:20201115T190000
DTSTAMP:20260425T232953
CREATED:20200911T184721Z
LAST-MODIFIED:20201007T200153Z
UID:1690-1605463200-1605466800@bereanmacon.org
SUMMARY:Next Step Recovery Ministries
DESCRIPTION:Hear the blessings of this ministry!
URL:https://bereanmacon.org/event/next-step-recovery-ministries/
CATEGORIES:Upcoming Events
END:VEVENT
BEGIN:VEVENT
DTSTART;TZID=America/New_York:20201103T070000
DTEND;TZID=America/New_York:20201103T190000
DTSTAMP:20260425T232953
CREATED:20201007T201328Z
LAST-MODIFIED:20201007T201328Z
UID:1721-1604386800-1604430000@bereanmacon.org
SUMMARY:Election Day
DESCRIPTION:Our freedom is a gift of God’s grace; let’s use it to vote today!
URL:https://bereanmacon.org/event/election-day/
END:VEVENT
BEGIN:VEVENT
DTSTART;TZID=America/New_York:20201011T100000
DTEND;TZID=America/New_York:20201011T120000
DTSTAMP:20260425T232953
CREATED:20200911T184537Z
LAST-MODIFIED:20200911T184537Z
UID:1688-1602410400-1602417600@bereanmacon.org
SUMMARY:Paul Smith\, Citizen Impact
DESCRIPTION:Ministering in Sunday school and the AM service
URL:https://bereanmacon.org/event/paul-smith-citizen-impact-2/
CATEGORIES:Upcoming Events
END:VEVENT
BEGIN:VEVENT
DTSTART;TZID=America/New_York:20201004T180000
DTEND;TZID=America/New_York:20201004T190000
DTSTAMP:20260425T232953
CREATED:20200911T184424Z
LAST-MODIFIED:20201007T200953Z
UID:1686-1601834400-1601838000@bereanmacon.org
SUMMARY:The Warren Family
DESCRIPTION:David Warren and his family will minister in music and the Word.  Join us!
URL:https://bereanmacon.org/event/the-warren-family/
CATEGORIES:Upcoming Events
END:VEVENT
BEGIN:VEVENT
DTSTART;TZID=America/New_York:20200913T090000
DTEND;TZID=America/New_York:20200913T120000
DTSTAMP:20260425T232953
CREATED:20200827T195507Z
LAST-MODIFIED:20220601T152208Z
UID:1653-1599987600-1599998400@bereanmacon.org
SUMMARY:"Lift Up Your Eyes" Faith Promise Missions Sunday
DESCRIPTION:Join us for 3 sessions focused on World Missions! \n9:00 a.m. – Message by Bro. Bud Bierman \n10:00 a.m. – Missionary Presentation \n11:00 a.m. – Message by Bro. Bud Bierman; Faith Promise Missions Offering
URL:https://bereanmacon.org/event/lift-up-your-eyes-faith-promise-missions-sunday/
CATEGORIES:Upcoming Events
END:VEVENT
BEGIN:VEVENT
DTSTART;VALUE=DATE:20200809
DTEND;VALUE=DATE:20200810
DTSTAMP:20260425T232953
CREATED:20200320T171137Z
LAST-MODIFIED:20200619T155454Z
UID:1582-1596931200-1597017599@bereanmacon.org
SUMMARY:Church Anniversary Sunday
DESCRIPTION:
URL:https://bereanmacon.org/event/church-anniversary-sunday/
CATEGORIES:Upcoming Events
END:VEVENT
BEGIN:VEVENT
DTSTART;VALUE=DATE:20200621
DTEND;VALUE=DATE:20200622
DTSTAMP:20260425T232953
CREATED:20200320T170908Z
LAST-MODIFIED:20200320T170908Z
UID:1576-1592697600-1592783999@bereanmacon.org
SUMMARY:Father's Day
DESCRIPTION:
URL:https://bereanmacon.org/event/fathers-day/
CATEGORIES:Upcoming Events
END:VEVENT
BEGIN:VEVENT
DTSTART;VALUE=DATE:20200510
DTEND;VALUE=DATE:20200511
DTSTAMP:20260425T232953
CREATED:20200320T170619Z
LAST-MODIFIED:20200320T171253Z
UID:1570-1589068800-1589155199@bereanmacon.org
SUMMARY:Mother's Day!
DESCRIPTION:
URL:https://bereanmacon.org/event/mothers-day/
CATEGORIES:Upcoming Events
END:VEVENT
BEGIN:VEVENT
DTSTART;VALUE=DATE:20200412
DTEND;VALUE=DATE:20200413
DTSTAMP:20260425T232953
CREATED:20200113T210937Z
LAST-MODIFIED:20200113T210937Z
UID:1528-1586649600-1586735999@bereanmacon.org
SUMMARY:Resurrection Sunday!
DESCRIPTION:
URL:https://bereanmacon.org/event/resurrection-sunday-4/
CATEGORIES:Upcoming Events
END:VEVENT
BEGIN:VEVENT
DTSTART;VALUE=DATE:20200401
DTEND;VALUE=DATE:20200402
DTSTAMP:20260425T232953
CREATED:20200320T171641Z
LAST-MODIFIED:20200320T171641Z
UID:1588-1585699200-1585785599@bereanmacon.org
SUMMARY:No PM Activities
DESCRIPTION:
URL:https://bereanmacon.org/event/no-pm-activities/
CATEGORIES:Upcoming Events
END:VEVENT
BEGIN:VEVENT
DTSTART;TZID=America/New_York:20200329T100000
DTEND;TZID=America/New_York:20200329T103000
DTSTAMP:20260425T232953
CREATED:20200320T170021Z
LAST-MODIFIED:20200320T170120Z
UID:1560-1585476000-1585477800@bereanmacon.org
SUMMARY:No Regular Services  Facebook Live Service Only @ 10 a.m.
DESCRIPTION:
URL:https://bereanmacon.org/event/no-regular-services-facebook-live-service-only-2/
CATEGORIES:Upcoming Events
END:VEVENT
BEGIN:VEVENT
DTSTART;VALUE=DATE:20200325
DTEND;VALUE=DATE:20200326
DTSTAMP:20260425T232953
CREATED:20200320T171609Z
LAST-MODIFIED:20200320T171723Z
UID:1586-1585094400-1585180799@bereanmacon.org
SUMMARY:No PM Activities
DESCRIPTION:
URL:https://bereanmacon.org/event/no-activities/
CATEGORIES:Upcoming Events
END:VEVENT
BEGIN:VEVENT
DTSTART;TZID=America/New_York:20200322T100000
DTEND;TZID=America/New_York:20200322T103000
DTSTAMP:20260425T232953
CREATED:20200320T165929Z
LAST-MODIFIED:20200320T170151Z
UID:1558-1584871200-1584873000@bereanmacon.org
SUMMARY:No Regular Services  Facebook Live Service Only @ 10 a.m.
DESCRIPTION:
URL:https://bereanmacon.org/event/no-regular-services-facebook-live-service-only/
CATEGORIES:Upcoming Events
END:VEVENT
BEGIN:VEVENT
DTSTART;VALUE=DATE:20200318
DTEND;VALUE=DATE:20200319
DTSTAMP:20260425T232953
CREATED:20200320T171752Z
LAST-MODIFIED:20200320T171752Z
UID:1591-1584489600-1584575999@bereanmacon.org
SUMMARY:No PM Activities
DESCRIPTION:
URL:https://bereanmacon.org/event/no-pm-activities-2/
CATEGORIES:Upcoming Events
END:VEVENT
BEGIN:VEVENT
DTSTART;VALUE=DATE:20200308
DTEND;VALUE=DATE:20200312
DTSTAMP:20260425T232953
CREATED:20200113T210740Z
LAST-MODIFIED:20200113T210740Z
UID:1524-1583625600-1583971199@bereanmacon.org
SUMMARY:Evangelist David Sommerdorf
DESCRIPTION:Sunday: 11 a.m. and 6 p.m.  Mon-Wed: 7 p.m.
URL:https://bereanmacon.org/event/evangelist-david-sommerdorf/
CATEGORIES:Upcoming Events
END:VEVENT
BEGIN:VEVENT
DTSTART;TZID=America/New_York:20200223T180000
DTEND;TZID=America/New_York:20200223T190000
DTSTAMP:20260425T232953
CREATED:20200113T210536Z
LAST-MODIFIED:20200113T210536Z
UID:1522-1582480800-1582484400@bereanmacon.org
SUMMARY:Ladies'/Men's Fellowship Meetings
DESCRIPTION:
URL:https://bereanmacon.org/event/ladies-mens-fellowship-meetings-10/
CATEGORIES:Upcoming Events
END:VEVENT
BEGIN:VEVENT
DTSTART;TZID=America/New_York:20200216T180000
DTEND;TZID=America/New_York:20200216T190000
DTSTAMP:20260425T232953
CREATED:20200113T210452Z
LAST-MODIFIED:20200113T210452Z
UID:1520-1581876000-1581879600@bereanmacon.org
SUMMARY:Missionary Josh Owens - Argentina
DESCRIPTION:
URL:https://bereanmacon.org/event/missionary-josh-owens-argentina/
CATEGORIES:Upcoming Events
END:VEVENT
BEGIN:VEVENT
DTSTART;TZID=America/New_York:20200215T100000
DTEND;TZID=America/New_York:20200215T120000
DTSTAMP:20260425T232953
CREATED:20200115T204126Z
LAST-MODIFIED:20200115T204126Z
UID:1532-1581760800-1581768000@bereanmacon.org
SUMMARY:Drop-in Baby Shower for Haley Dahl
DESCRIPTION:It’s a boy!  Will be held in the Berean Fellowship Hall
URL:https://bereanmacon.org/event/drop-in-baby-shower-for-haley-dahl/
CATEGORIES:Upcoming Events
END:VEVENT
BEGIN:VEVENT
DTSTART;TZID=America/New_York:20200211T113000
DTEND;TZID=America/New_York:20200211T130000
DTSTAMP:20260425T232953
CREATED:20200113T210229Z
LAST-MODIFIED:20200113T210229Z
UID:1518-1581420600-1581426000@bereanmacon.org
SUMMARY:PrimeTimers - Valentines Lunch @ Red Lobster
DESCRIPTION:
URL:https://bereanmacon.org/event/primetimers-valentines-lunch-red-lobster/
CATEGORIES:Upcoming Events
END:VEVENT
BEGIN:VEVENT
DTSTART;TZID=America/New_York:20200126T180000
DTEND;TZID=America/New_York:20200126T190000
DTSTAMP:20260425T232953
CREATED:20191114T173058Z
LAST-MODIFIED:20191114T173058Z
UID:1494-1580061600-1580065200@bereanmacon.org
SUMMARY:Ladies'/Men's Fellowship
DESCRIPTION:
URL:https://bereanmacon.org/event/ladies-mens-fellowship/
CATEGORIES:Upcoming Events
END:VEVENT
BEGIN:VEVENT
DTSTART;TZID=America/New_York:20200125T123000
DTEND;TZID=America/New_York:20200125T143000
DTSTAMP:20260425T232953
CREATED:20200113T205835Z
LAST-MODIFIED:20200113T205835Z
UID:1514-1579955400-1579962600@bereanmacon.org
SUMMARY:Ladies' Game Time
DESCRIPTION:Hosted by the Grace Class at Annette Dyche’s home
URL:https://bereanmacon.org/event/ladies-game-time-2/
CATEGORIES:Upcoming Events
END:VEVENT
BEGIN:VEVENT
DTSTART;TZID=America/New_York:20200121T120000
DTEND;TZID=America/New_York:20200121T133000
DTSTAMP:20260425T232953
CREATED:20200113T205718Z
LAST-MODIFIED:20200113T205718Z
UID:1512-1579608000-1579613400@bereanmacon.org
SUMMARY:PrimeTimers - Lunch at The Crab House
DESCRIPTION:Lunch and review of 2020 activities
URL:https://bereanmacon.org/event/primetimers-lunch-at-the-crab-house/
CATEGORIES:Upcoming Events
END:VEVENT
BEGIN:VEVENT
DTSTART;TZID=America/New_York:20200119T180000
DTEND;TZID=America/New_York:20200119T190000
DTSTAMP:20260425T232953
CREATED:20191114T173008Z
LAST-MODIFIED:20191114T173008Z
UID:1492-1579456800-1579460400@bereanmacon.org
SUMMARY:Jeremy & Rachel Chupp Music Ministry
DESCRIPTION:
URL:https://bereanmacon.org/event/jeremy-rachel-chupp-music-ministry/
CATEGORIES:Upcoming Events
END:VEVENT
BEGIN:VEVENT
DTSTART;VALUE=DATE:20200101
DTEND;VALUE=DATE:20200102
DTSTAMP:20260425T232953
CREATED:20191114T172655Z
LAST-MODIFIED:20191114T172655Z
UID:1488-1577836800-1577923199@bereanmacon.org
SUMMARY:No Midweek Service
DESCRIPTION:
URL:https://bereanmacon.org/event/no-midweek-service-2/
CATEGORIES:Upcoming Events
END:VEVENT
BEGIN:VEVENT
DTSTART;TZID=America/New_York:20191229T180000
DTEND;TZID=America/New_York:20191229T193000
DTSTAMP:20260425T232953
CREATED:20191114T172759Z
LAST-MODIFIED:20191114T172759Z
UID:1490-1577642400-1577647800@bereanmacon.org
SUMMARY:New Year's Soup & Sandwich
DESCRIPTION:
URL:https://bereanmacon.org/event/new-years-soup-sandwich/
CATEGORIES:Upcoming Events
END:VEVENT
BEGIN:VEVENT
DTSTART;VALUE=DATE:20191225
DTEND;VALUE=DATE:20191226
DTSTAMP:20260425T232953
CREATED:20191114T172617Z
LAST-MODIFIED:20191114T172617Z
UID:1486-1577232000-1577318399@bereanmacon.org
SUMMARY:No Midweek Service
DESCRIPTION:
URL:https://bereanmacon.org/event/no-midweek-service/
CATEGORIES:Upcoming Events
END:VEVENT
BEGIN:VEVENT
DTSTART;TZID=America/New_York:20191222T180000
DTEND;TZID=America/New_York:20191222T190000
DTSTAMP:20260425T232953
CREATED:20191114T172506Z
LAST-MODIFIED:20191114T172506Z
UID:1484-1577037600-1577041200@bereanmacon.org
SUMMARY:Ben Everson Family Christmas Concert
DESCRIPTION:Joint service at Victory Baptist Church\, 5687 Houston Rd.
URL:https://bereanmacon.org/event/ben-everson-family-christmas-concert/
CATEGORIES:Upcoming Events
END:VEVENT
BEGIN:VEVENT
DTSTART;TZID=America/New_York:20191222T110000
DTEND;TZID=America/New_York:20191222T120000
DTSTAMP:20260425T232953
CREATED:20191114T172312Z
LAST-MODIFIED:20191114T172312Z
UID:1482-1577012400-1577016000@bereanmacon.org
SUMMARY:Lord's Supper Service
DESCRIPTION:
URL:https://bereanmacon.org/event/lords-supper-service-14/
CATEGORIES:Upcoming Events
END:VEVENT
BEGIN:VEVENT
DTSTART;TZID=America/New_York:20191215T180000
DTEND;TZID=America/New_York:20191215T200000
DTSTAMP:20260425T232953
CREATED:20190823T203936Z
LAST-MODIFIED:20190823T203936Z
UID:1439-1576432800-1576440000@bereanmacon.org
SUMMARY:Sunday School Christmas Parties
DESCRIPTION:
URL:https://bereanmacon.org/event/sunday-school-christmas-parties/
CATEGORIES:Upcoming Events
END:VEVENT
BEGIN:VEVENT
DTSTART;TZID=America/New_York:20191215T110000
DTEND;TZID=America/New_York:20191215T120000
DTSTAMP:20260425T232953
CREATED:20190823T203847Z
LAST-MODIFIED:20191114T170844Z
UID:1437-1576407600-1576411200@bereanmacon.org
SUMMARY:"The Love of God at Christmas"
DESCRIPTION:Berean Choir Christmas Program
URL:https://bereanmacon.org/event/choir-christmas-program/
CATEGORIES:Upcoming Events
END:VEVENT
END:VCALENDAR