BEGIN:VCALENDAR
VERSION:2.0
PRODID:-//Berean Baptist Church - ECPv6.15.20//NONSGML v1.0//EN
CALSCALE:GREGORIAN
METHOD:PUBLISH
X-WR-CALNAME:Berean Baptist Church
X-ORIGINAL-URL:https://bereanmacon.org
X-WR-CALDESC:Events for Berean Baptist Church
REFRESH-INTERVAL;VALUE=DURATION:PT1H
X-Robots-Tag:noindex
X-PUBLISHED-TTL:PT1H
BEGIN:VTIMEZONE
TZID:America/New_York
BEGIN:DAYLIGHT
TZOFFSETFROM:-0500
TZOFFSETTO:-0400
TZNAME:EDT
DTSTART:20220313T070000
END:DAYLIGHT
BEGIN:STANDARD
TZOFFSETFROM:-0400
TZOFFSETTO:-0500
TZNAME:EST
DTSTART:20221106T060000
END:STANDARD
BEGIN:DAYLIGHT
TZOFFSETFROM:-0500
TZOFFSETTO:-0400
TZNAME:EDT
DTSTART:20230312T070000
END:DAYLIGHT
BEGIN:STANDARD
TZOFFSETFROM:-0400
TZOFFSETTO:-0500
TZNAME:EST
DTSTART:20231105T060000
END:STANDARD
BEGIN:DAYLIGHT
TZOFFSETFROM:-0500
TZOFFSETTO:-0400
TZNAME:EDT
DTSTART:20240310T070000
END:DAYLIGHT
BEGIN:STANDARD
TZOFFSETFROM:-0400
TZOFFSETTO:-0500
TZNAME:EST
DTSTART:20241103T060000
END:STANDARD
BEGIN:DAYLIGHT
TZOFFSETFROM:-0500
TZOFFSETTO:-0400
TZNAME:EDT
DTSTART:20250309T070000
END:DAYLIGHT
BEGIN:STANDARD
TZOFFSETFROM:-0400
TZOFFSETTO:-0500
TZNAME:EST
DTSTART:20251102T060000
END:STANDARD
BEGIN:DAYLIGHT
TZOFFSETFROM:-0500
TZOFFSETTO:-0400
TZNAME:EDT
DTSTART:20260308T070000
END:DAYLIGHT
BEGIN:STANDARD
TZOFFSETFROM:-0400
TZOFFSETTO:-0500
TZNAME:EST
DTSTART:20261101T060000
END:STANDARD
END:VTIMEZONE
BEGIN:VEVENT
DTSTART;TZID=America/New_York:20250413T110000
DTEND;TZID=America/New_York:20250413T120000
DTSTAMP:20260421T043344
CREATED:20250110T202819Z
LAST-MODIFIED:20250110T202819Z
UID:2469-1744542000-1744545600@bereanmacon.org
SUMMARY:Lord's Supper Service
DESCRIPTION:
URL:https://bereanmacon.org/event/lords-supper-service-25/
CATEGORIES:Upcoming Events
END:VEVENT
BEGIN:VEVENT
DTSTART;VALUE=DATE:20250228
DTEND;VALUE=DATE:20250303
DTSTAMP:20260421T043344
CREATED:20241219T212122Z
LAST-MODIFIED:20241219T212122Z
UID:2452-1740700800-1740959999@bereanmacon.org
SUMMARY:Spiritual Wellness Weekend with Jim Schettler
DESCRIPTION:
URL:https://bereanmacon.org/event/spiritual-wellness-weekend-with-jim-schettler/
CATEGORIES:Upcoming Events
END:VEVENT
BEGIN:VEVENT
DTSTART;TZID=America/New_York:20250223T180000
DTEND;TZID=America/New_York:20250223T190000
DTSTAMP:20260421T043344
CREATED:20250110T202504Z
LAST-MODIFIED:20250110T202504Z
UID:2465-1740333600-1740337200@bereanmacon.org
SUMMARY:Ladies'/Men's Meetings
DESCRIPTION:
URL:https://bereanmacon.org/event/ladies-mens-meetings-16/
CATEGORIES:Upcoming Events
END:VEVENT
BEGIN:VEVENT
DTSTART;TZID=America/New_York:20250209T180000
DTEND;TZID=America/New_York:20250209T190000
DTSTAMP:20260421T043344
CREATED:20250110T202238Z
LAST-MODIFIED:20250110T202238Z
UID:2462-1739124000-1739127600@bereanmacon.org
SUMMARY:The David Warren Family
DESCRIPTION:Ministry in music and the Word!
URL:https://bereanmacon.org/event/the-david-warren-family-4/
CATEGORIES:Upcoming Events
END:VEVENT
BEGIN:VEVENT
DTSTART;TZID=America/New_York:20250209T100000
DTEND;TZID=America/New_York:20250209T120000
DTSTAMP:20260421T043344
CREATED:20250110T202131Z
LAST-MODIFIED:20250110T202131Z
UID:2460-1739095200-1739102400@bereanmacon.org
SUMMARY:Missionary Matthew Gardner - Uganda
DESCRIPTION:
URL:https://bereanmacon.org/event/missionary-matthew-gardner-uganda/
CATEGORIES:Upcoming Events
END:VEVENT
BEGIN:VEVENT
DTSTART;TZID=America/New_York:20250126T180000
DTEND;TZID=America/New_York:20250126T190000
DTSTAMP:20260421T043344
CREATED:20250110T201859Z
LAST-MODIFIED:20250110T201859Z
UID:2456-1737914400-1737918000@bereanmacon.org
SUMMARY:Ladies'/Men's Meetings
DESCRIPTION:
URL:https://bereanmacon.org/event/ladies-mens-meetings-15/
CATEGORIES:Upcoming Events
END:VEVENT
BEGIN:VEVENT
DTSTART;TZID=America/New_York:20250123T113000
DTEND;TZID=America/New_York:20250123T130000
DTSTAMP:20260421T043344
CREATED:20250110T202017Z
LAST-MODIFIED:20250110T202017Z
UID:2458-1737631800-1737637200@bereanmacon.org
SUMMARY:PrimeTimers' Lunch at Golden Corral
DESCRIPTION:Join us to preview the 2025 activity schedule!
URL:https://bereanmacon.org/event/primetimers-lunch-at-golden-corral-3/
CATEGORIES:Upcoming Events
END:VEVENT
BEGIN:VEVENT
DTSTART;TZID=America/New_York:20250112T100000
DTEND;TZID=America/New_York:20250112T120000
DTSTAMP:20260421T043344
CREATED:20241219T212027Z
LAST-MODIFIED:20250110T202359Z
UID:2450-1736676000-1736683200@bereanmacon.org
SUMMARY:Citizen Impact Sunday
DESCRIPTION:Special presentation and message from Executive Director Paul Smith
URL:https://bereanmacon.org/event/citizen-impact-sunday/
CATEGORIES:Upcoming Events
END:VEVENT
BEGIN:VEVENT
DTSTART;VALUE=DATE:20250101
DTEND;VALUE=DATE:20250102
DTSTAMP:20260421T043344
CREATED:20241219T211742Z
LAST-MODIFIED:20241219T211742Z
UID:2446-1735689600-1735775999@bereanmacon.org
SUMMARY:Happy New Year!
DESCRIPTION:No Service or Activities
URL:https://bereanmacon.org/event/happy-new-year-2/
CATEGORIES:Upcoming Events
END:VEVENT
BEGIN:VEVENT
DTSTART;TZID=America/New_York:20241229T100000
DTEND;TZID=America/New_York:20241229T110000
DTSTAMP:20260421T043344
CREATED:20241219T211838Z
LAST-MODIFIED:20241219T211838Z
UID:2448-1735466400-1735470000@bereanmacon.org
SUMMARY:One Service at 10:00 a.m.
DESCRIPTION:No Sunday School or PM Service
URL:https://bereanmacon.org/event/one-service-at-1000-a-m/
CATEGORIES:Upcoming Events
END:VEVENT
BEGIN:VEVENT
DTSTART;VALUE=DATE:20241225
DTEND;VALUE=DATE:20241226
DTSTAMP:20260421T043344
CREATED:20241219T211640Z
LAST-MODIFIED:20241219T211640Z
UID:2444-1735084800-1735171199@bereanmacon.org
SUMMARY:Merry Christmas!
DESCRIPTION:No Service or Activities
URL:https://bereanmacon.org/event/merry-christmas-2/
END:VEVENT
BEGIN:VEVENT
DTSTART;TZID=America/New_York:20241222T180000
DTEND;TZID=America/New_York:20241222T190000
DTSTAMP:20260421T043344
CREATED:20241219T211550Z
LAST-MODIFIED:20241219T211550Z
UID:2442-1734890400-1734894000@bereanmacon.org
SUMMARY:Christmas Lord's Supper Service
DESCRIPTION:
URL:https://bereanmacon.org/event/christmas-lords-supper-service-3/
CATEGORIES:Upcoming Events
END:VEVENT
BEGIN:VEVENT
DTSTART;VALUE=DATE:20240617
DTEND;VALUE=DATE:20240622
DTSTAMP:20260421T043344
CREATED:20240202T212601Z
LAST-MODIFIED:20240202T212601Z
UID:2422-1718582400-1719014399@bereanmacon.org
SUMMARY:Teen Extreme Youth Camp
DESCRIPTION:Held at Pensacola Christian College
URL:https://bereanmacon.org/event/teen-extreme-youth-camp-5/
CATEGORIES:Upcoming Events
END:VEVENT
BEGIN:VEVENT
DTSTART;VALUE=DATE:20240512
DTEND;VALUE=DATE:20240513
DTSTAMP:20260421T043344
CREATED:20240202T212505Z
LAST-MODIFIED:20240202T212505Z
UID:2420-1715472000-1715558399@bereanmacon.org
SUMMARY:Happy Mother's Day!
DESCRIPTION:
URL:https://bereanmacon.org/event/happy-mothers-day-3/
CATEGORIES:Upcoming Events
END:VEVENT
BEGIN:VEVENT
DTSTART;VALUE=DATE:20240413
DTEND;VALUE=DATE:20240414
DTSTAMP:20260421T043344
CREATED:20240202T212425Z
LAST-MODIFIED:20240202T212425Z
UID:2418-1712966400-1713052799@bereanmacon.org
SUMMARY:Anchor Class - Biblical History Center
DESCRIPTION:Located in LaGrange\, GA
URL:https://bereanmacon.org/event/anchor-class-biblical-history-center/
CATEGORIES:Upcoming Events
END:VEVENT
BEGIN:VEVENT
DTSTART;VALUE=DATE:20240331
DTEND;VALUE=DATE:20240401
DTSTAMP:20260421T043344
CREATED:20240202T212149Z
LAST-MODIFIED:20240202T212149Z
UID:2414-1711843200-1711929599@bereanmacon.org
SUMMARY:Resurrection Sunday!
DESCRIPTION:Christ is risen\, He is risen indeed!
URL:https://bereanmacon.org/event/resurrection-sunday-7/
CATEGORIES:Upcoming Events
END:VEVENT
BEGIN:VEVENT
DTSTART;VALUE=DATE:20240329
DTEND;VALUE=DATE:20240331
DTSTAMP:20260421T043344
CREATED:20240202T212021Z
LAST-MODIFIED:20240202T212021Z
UID:2410-1711670400-1711843199@bereanmacon.org
SUMMARY:Ladies' Trip to the Living Gallery
DESCRIPTION:A Bob Jones University production
URL:https://bereanmacon.org/event/ladies-trip-to-the-living-gallery/
CATEGORIES:Upcoming Events
END:VEVENT
BEGIN:VEVENT
DTSTART;TZID=America/New_York:20240327T190000
DTEND;TZID=America/New_York:20240327T200000
DTSTAMP:20260421T043344
CREATED:20240202T212303Z
LAST-MODIFIED:20240202T212303Z
UID:2416-1711566000-1711569600@bereanmacon.org
SUMMARY:Truth Trackers - Spring Fling!
DESCRIPTION:
URL:https://bereanmacon.org/event/truth-trackers-spring-fling/
CATEGORIES:Upcoming Events
END:VEVENT
BEGIN:VEVENT
DTSTART;TZID=America/New_York:20240324T110000
DTEND;TZID=America/New_York:20240324T120000
DTSTAMP:20260421T043344
CREATED:20240202T212102Z
LAST-MODIFIED:20240202T212102Z
UID:2412-1711278000-1711281600@bereanmacon.org
SUMMARY:Lord's Supper Service
DESCRIPTION:
URL:https://bereanmacon.org/event/lords-supper-service-24/
CATEGORIES:Upcoming Events
END:VEVENT
BEGIN:VEVENT
DTSTART;VALUE=DATE:20240320
DTEND;VALUE=DATE:20240324
DTSTAMP:20260421T043344
CREATED:20240202T211922Z
LAST-MODIFIED:20240202T211922Z
UID:2408-1710892800-1711238399@bereanmacon.org
SUMMARY:Men's Fishing Trip
DESCRIPTION:Annual trip to Steinhatchee\, FL
URL:https://bereanmacon.org/event/mens-fishing-trip-6/
CATEGORIES:Upcoming Events
END:VEVENT
BEGIN:VEVENT
DTSTART;VALUE=DATE:20240225
DTEND;VALUE=DATE:20240229
DTSTAMP:20260421T043344
CREATED:20230813T210447Z
LAST-MODIFIED:20230813T210447Z
UID:2344-1708819200-1709164799@bereanmacon.org
SUMMARY:Revival Services with David Sommerdorf
DESCRIPTION:
URL:https://bereanmacon.org/event/revival-services-with-david-sommerdorf/
CATEGORIES:Upcoming Events
END:VEVENT
BEGIN:VEVENT
DTSTART;TZID=America/New_York:20240218T180000
DTEND;TZID=America/New_York:20240218T190000
DTSTAMP:20260421T043344
CREATED:20240202T211809Z
LAST-MODIFIED:20240202T211809Z
UID:2406-1708279200-1708282800@bereanmacon.org
SUMMARY:Ladies'/Men's Meetings
DESCRIPTION:
URL:https://bereanmacon.org/event/ladies-mens-meetings-14/
CATEGORIES:Upcoming Events
END:VEVENT
BEGIN:VEVENT
DTSTART;TZID=America/New_York:20240214T190000
DTEND;TZID=America/New_York:20240214T200000
DTSTAMP:20260421T043344
CREATED:20240202T211730Z
LAST-MODIFIED:20240202T211730Z
UID:2404-1707937200-1707940800@bereanmacon.org
SUMMARY:Truth Trackers - Valentines Party
DESCRIPTION:
URL:https://bereanmacon.org/event/truth-trackers-valentines-party-2/
CATEGORIES:Upcoming Events
END:VEVENT
BEGIN:VEVENT
DTSTART;TZID=America/New_York:20240213T113000
DTEND;TZID=America/New_York:20240213T130000
DTSTAMP:20260421T043344
CREATED:20240202T211641Z
LAST-MODIFIED:20240202T211641Z
UID:2402-1707823800-1707829200@bereanmacon.org
SUMMARY:PrimeTimers: Valentines at Red Lobster
DESCRIPTION:
URL:https://bereanmacon.org/event/primetimers-valentines-at-red-lobster/
CATEGORIES:Upcoming Events
END:VEVENT
BEGIN:VEVENT
DTSTART;TZID=America/New_York:20240128T180000
DTEND;TZID=America/New_York:20240128T190000
DTSTAMP:20260421T043344
CREATED:20230914T184115Z
LAST-MODIFIED:20230914T184115Z
UID:2387-1706464800-1706468400@bereanmacon.org
SUMMARY:Ladies'/Men's Meetings
DESCRIPTION:
URL:https://bereanmacon.org/event/ladies-mens-meetings-13/
CATEGORIES:Upcoming Events
END:VEVENT
BEGIN:VEVENT
DTSTART;TZID=America/New_York:20240121T180000
DTEND;TZID=America/New_York:20240121T190000
DTSTAMP:20260421T043344
CREATED:20230914T183952Z
LAST-MODIFIED:20230914T183952Z
UID:2385-1705860000-1705863600@bereanmacon.org
SUMMARY:The David Warren Family
DESCRIPTION:Music & Message from the Warrens
URL:https://bereanmacon.org/event/the-david-warren-family-3/
CATEGORIES:Upcoming Events
END:VEVENT
BEGIN:VEVENT
DTSTART;VALUE=DATE:20240101
DTEND;VALUE=DATE:20240102
DTSTAMP:20260421T043344
CREATED:20230829T203646Z
LAST-MODIFIED:20230829T203646Z
UID:2365-1704067200-1704153599@bereanmacon.org
SUMMARY:Happy New Year!
DESCRIPTION:
URL:https://bereanmacon.org/event/happy-new-year/
CATEGORIES:Upcoming Events
END:VEVENT
BEGIN:VEVENT
DTSTART;TZID=America/New_York:20231231T100000
DTEND;TZID=America/New_York:20231231T110000
DTSTAMP:20260421T043344
CREATED:20230829T204245Z
LAST-MODIFIED:20230829T204245Z
UID:2372-1704016800-1704020400@bereanmacon.org
SUMMARY:One Sunday Service @ 10 a.m.
DESCRIPTION:
URL:https://bereanmacon.org/event/one-sunday-service-10-a-m/
CATEGORIES:Upcoming Events
END:VEVENT
BEGIN:VEVENT
DTSTART;VALUE=DATE:20231227
DTEND;VALUE=DATE:20231228
DTSTAMP:20260421T043344
CREATED:20230829T203755Z
LAST-MODIFIED:20230829T203755Z
UID:2367-1703635200-1703721599@bereanmacon.org
SUMMARY:No PM Service or Activities
DESCRIPTION:Wednesday ministries resume on Jan. 3
URL:https://bereanmacon.org/event/no-pm-service-or-activities-2/
CATEGORIES:Upcoming Events
END:VEVENT
BEGIN:VEVENT
DTSTART;VALUE=DATE:20231225
DTEND;VALUE=DATE:20231226
DTSTAMP:20260421T043344
CREATED:20230829T203618Z
LAST-MODIFIED:20230829T203618Z
UID:2363-1703462400-1703548799@bereanmacon.org
SUMMARY:Have a Blessed Christmas!
DESCRIPTION:
URL:https://bereanmacon.org/event/have-a-blessed-christmas/
CATEGORIES:Upcoming Events
END:VEVENT
END:VCALENDAR