BEGIN:VCALENDAR
VERSION:2.0
PRODID:-//Berean Baptist Church - ECPv6.15.20//NONSGML v1.0//EN
CALSCALE:GREGORIAN
METHOD:PUBLISH
X-WR-CALNAME:Berean Baptist Church
X-ORIGINAL-URL:https://bereanmacon.org
X-WR-CALDESC:Events for Berean Baptist Church
REFRESH-INTERVAL;VALUE=DURATION:PT1H
X-Robots-Tag:noindex
X-PUBLISHED-TTL:PT1H
BEGIN:VTIMEZONE
TZID:America/New_York
BEGIN:DAYLIGHT
TZOFFSETFROM:-0500
TZOFFSETTO:-0400
TZNAME:EDT
DTSTART:20220313T070000
END:DAYLIGHT
BEGIN:STANDARD
TZOFFSETFROM:-0400
TZOFFSETTO:-0500
TZNAME:EST
DTSTART:20221106T060000
END:STANDARD
BEGIN:DAYLIGHT
TZOFFSETFROM:-0500
TZOFFSETTO:-0400
TZNAME:EDT
DTSTART:20230312T070000
END:DAYLIGHT
BEGIN:STANDARD
TZOFFSETFROM:-0400
TZOFFSETTO:-0500
TZNAME:EST
DTSTART:20231105T060000
END:STANDARD
BEGIN:DAYLIGHT
TZOFFSETFROM:-0500
TZOFFSETTO:-0400
TZNAME:EDT
DTSTART:20240310T070000
END:DAYLIGHT
BEGIN:STANDARD
TZOFFSETFROM:-0400
TZOFFSETTO:-0500
TZNAME:EST
DTSTART:20241103T060000
END:STANDARD
END:VTIMEZONE
BEGIN:VEVENT
DTSTART;TZID=America/New_York:20231224T100000
DTEND;TZID=America/New_York:20231224T110000
DTSTAMP:20260419T105230
CREATED:20230829T204129Z
LAST-MODIFIED:20230829T204202Z
UID:2369-1703412000-1703415600@bereanmacon.org
SUMMARY:One Sunday Service @ 10 a.m.
DESCRIPTION:Happy Christmas Eve!
URL:https://bereanmacon.org/event/one-sunday-service/
CATEGORIES:Upcoming Events
END:VEVENT
BEGIN:VEVENT
DTSTART;TZID=America/New_York:20231220T190000
DTEND;TZID=America/New_York:20231220T200000
DTSTAMP:20260419T105230
CREATED:20230914T183813Z
LAST-MODIFIED:20230914T183813Z
UID:2383-1703098800-1703102400@bereanmacon.org
SUMMARY:Family Christmas Service
DESCRIPTION:Christmas fun and Candlelight Carols
URL:https://bereanmacon.org/event/family-christmas-service-4/
CATEGORIES:Upcoming Events
END:VEVENT
BEGIN:VEVENT
DTSTART;TZID=America/New_York:20231217T110000
DTEND;TZID=America/New_York:20231217T120000
DTSTAMP:20260419T105230
CREATED:20230914T183619Z
LAST-MODIFIED:20230914T183619Z
UID:2381-1702810800-1702814400@bereanmacon.org
SUMMARY:Lord's Supper Service
DESCRIPTION:
URL:https://bereanmacon.org/event/lords-supper-service-23/
CATEGORIES:Upcoming Events
END:VEVENT
BEGIN:VEVENT
DTSTART;TZID=America/New_York:20231212T104500
DTEND;TZID=America/New_York:20231212T130000
DTSTAMP:20260419T105230
CREATED:20230623T201605Z
LAST-MODIFIED:20231206T211224Z
UID:2322-1702377900-1702386000@bereanmacon.org
SUMMARY:PrimeTimers - Cannonball House
DESCRIPTION:Tour and lunch at S&S Cafeteria; Meet at the Cannonball House
URL:https://bereanmacon.org/event/primetimers-cannonball-house/
CATEGORIES:Upcoming Events
END:VEVENT
BEGIN:VEVENT
DTSTART;TZID=America/New_York:20231210T110000
DTEND;TZID=America/New_York:20231210T120000
DTSTAMP:20260419T105230
CREATED:20230829T204439Z
LAST-MODIFIED:20231206T211314Z
UID:2374-1702206000-1702209600@bereanmacon.org
SUMMARY:Christmas Program: "Let There Be Light"
DESCRIPTION:Join us for our 2023 Christmas program
URL:https://bereanmacon.org/event/christmas-at-berean/
CATEGORIES:Upcoming Events
END:VEVENT
BEGIN:VEVENT
DTSTART;VALUE=DATE:20231123
DTEND;VALUE=DATE:20231124
DTSTAMP:20260419T105230
CREATED:20230829T203327Z
LAST-MODIFIED:20230829T203327Z
UID:2359-1700697600-1700783999@bereanmacon.org
SUMMARY:Happy Thanksgiving!
DESCRIPTION:“O give thanks unto the Lord for He is good!”
URL:https://bereanmacon.org/event/happy-thanksgiving-3/
CATEGORIES:Upcoming Events
END:VEVENT
BEGIN:VEVENT
DTSTART;TZID=America/New_York:20231121T190000
DTEND;TZID=America/New_York:20231121T200000
DTSTAMP:20260419T105230
CREATED:20230829T203504Z
LAST-MODIFIED:20230829T203504Z
UID:2361-1700593200-1700596800@bereanmacon.org
SUMMARY:Midweek Service
DESCRIPTION:On Tuesday instead of Wednesday
URL:https://bereanmacon.org/event/midweek-service-3/
CATEGORIES:Upcoming Events
END:VEVENT
BEGIN:VEVENT
DTSTART;TZID=America/New_York:20231119T180000
DTEND;TZID=America/New_York:20231119T193000
DTSTAMP:20260419T105230
CREATED:20230829T202729Z
LAST-MODIFIED:20230829T202729Z
UID:2355-1700416800-1700422200@bereanmacon.org
SUMMARY:Thanksgiving Praise & Fellowship
DESCRIPTION:
URL:https://bereanmacon.org/event/thanksgiving-praise-fellowship/
CATEGORIES:Upcoming Events
END:VEVENT
BEGIN:VEVENT
DTSTART;TZID=America/New_York:20231114T090000
DTEND;TZID=America/New_York:20231114T150000
DTSTAMP:20260419T105230
CREATED:20230829T203044Z
LAST-MODIFIED:20230829T203044Z
UID:2357-1699952400-1699974000@bereanmacon.org
SUMMARY:PrimeTimers: Andersonville National Historic Site
DESCRIPTION:Lunch at Yoder’s in Montezuma
URL:https://bereanmacon.org/event/primetimers-andersonville-national-historic-site/
CATEGORIES:Upcoming Events
END:VEVENT
BEGIN:VEVENT
DTSTART;TZID=America/New_York:20231029T180000
DTEND;TZID=America/New_York:20231029T190000
DTSTAMP:20260419T105230
CREATED:20230914T183240Z
LAST-MODIFIED:20230914T183240Z
UID:2379-1698602400-1698606000@bereanmacon.org
SUMMARY:Ladies'/Men's Meetings
DESCRIPTION:
URL:https://bereanmacon.org/event/ladies-mens-meetings-12/
CATEGORIES:Upcoming Events
END:VEVENT
BEGIN:VEVENT
DTSTART;VALUE=DATE:20231024
DTEND;VALUE=DATE:20231028
DTSTAMP:20260419T105230
CREATED:20230623T201236Z
LAST-MODIFIED:20230623T201236Z
UID:2318-1698105600-1698451199@bereanmacon.org
SUMMARY:PrimeTimers - The Wilds
DESCRIPTION:Senior Adult Retreat
URL:https://bereanmacon.org/event/primetimers-the-wilds/
CATEGORIES:Upcoming Events
END:VEVENT
BEGIN:VEVENT
DTSTART;TZID=America/New_York:20231022T110000
DTEND;TZID=America/New_York:20231022T120000
DTSTAMP:20260419T105230
CREATED:20230829T202402Z
LAST-MODIFIED:20230829T202402Z
UID:2353-1697972400-1697976000@bereanmacon.org
SUMMARY:Wayne Naugle: Families 4 Families
DESCRIPTION:
URL:https://bereanmacon.org/event/wayne-naugle-families-4-families/
CATEGORIES:Upcoming Events
END:VEVENT
BEGIN:VEVENT
DTSTART;TZID=America/New_York:20231015T110000
DTEND;TZID=America/New_York:20231015T120000
DTSTAMP:20260419T105230
CREATED:20230829T202225Z
LAST-MODIFIED:20230829T202225Z
UID:2351-1697367600-1697371200@bereanmacon.org
SUMMARY:Lord's Supper Service
DESCRIPTION:
URL:https://bereanmacon.org/event/lords-supper-service-22/
CATEGORIES:Upcoming Events
END:VEVENT
BEGIN:VEVENT
DTSTART;TZID=America/New_York:20231001T110000
DTEND;TZID=America/New_York:20231001T120000
DTSTAMP:20260419T105230
CREATED:20230829T202125Z
LAST-MODIFIED:20230829T202125Z
UID:2349-1696158000-1696161600@bereanmacon.org
SUMMARY:Faith Promise Missions Sunday
DESCRIPTION:Another tool to “Spread the Word”
URL:https://bereanmacon.org/event/faith-promise-missions-sunday-2/
CATEGORIES:Upcoming Events
END:VEVENT
BEGIN:VEVENT
DTSTART;TZID=America/New_York:20230924T180000
DTEND;TZID=America/New_York:20230924T193000
DTSTAMP:20260419T105230
CREATED:20230813T210219Z
LAST-MODIFIED:20230813T210219Z
UID:2342-1695578400-1695583800@bereanmacon.org
SUMMARY:International Dinner Fellowship
DESCRIPTION:Closing service of our Missions Conference
URL:https://bereanmacon.org/event/international-dinner-fellowship/
CATEGORIES:Upcoming Events
END:VEVENT
BEGIN:VEVENT
DTSTART;VALUE=DATE:20230922
DTEND;VALUE=DATE:20230925
DTSTAMP:20260419T105230
CREATED:20230813T210117Z
LAST-MODIFIED:20230813T210117Z
UID:2340-1695340800-1695599999@bereanmacon.org
SUMMARY:2023 Missions Conference: "Spread the Word to the World!"
DESCRIPTION:
URL:https://bereanmacon.org/event/2023-missions-conference-spread-the-word-to-the-world/
CATEGORIES:Upcoming Events
END:VEVENT
BEGIN:VEVENT
DTSTART;TZID=America/New_York:20230912T113000
DTEND;TZID=America/New_York:20230912T123000
DTSTAMP:20260419T105230
CREATED:20230623T201128Z
LAST-MODIFIED:20230623T201128Z
UID:2316-1694518200-1694521800@bereanmacon.org
SUMMARY:PrimeTimers - Sonny's BBQ
DESCRIPTION:Meet at the restaurant
URL:https://bereanmacon.org/event/primetimers-sonnys-bbq/
CATEGORIES:Upcoming Events
END:VEVENT
BEGIN:VEVENT
DTSTART;TZID=America/New_York:20230827T180000
DTEND;TZID=America/New_York:20230827T190000
DTSTAMP:20260419T105230
CREATED:20230623T201710Z
LAST-MODIFIED:20230623T201710Z
UID:2324-1693159200-1693162800@bereanmacon.org
SUMMARY:Ladies'/Men's Meetings
DESCRIPTION:
URL:https://bereanmacon.org/event/ladies-mens-meetings-11/
CATEGORIES:Upcoming Events
END:VEVENT
BEGIN:VEVENT
DTSTART;TZID=America/New_York:20230823T190000
DTEND;TZID=America/New_York:20230823T200000
DTSTAMP:20260419T105230
CREATED:20230813T205832Z
LAST-MODIFIED:20230813T205832Z
UID:2338-1692817200-1692820800@bereanmacon.org
SUMMARY:S.A.L.T. Youth Blizzard Bash!
DESCRIPTION:Meet at the church
URL:https://bereanmacon.org/event/s-a-l-t-youth-blizzard-bash-2/
CATEGORIES:Upcoming Events
END:VEVENT
BEGIN:VEVENT
DTSTART;TZID=America/New_York:20230815T100000
DTEND;TZID=America/New_York:20230815T140000
DTSTAMP:20260419T105230
CREATED:20230623T201024Z
LAST-MODIFIED:20230623T201024Z
UID:2314-1692093600-1692108000@bereanmacon.org
SUMMARY:PrimeTimers - Museum of Aviation
DESCRIPTION:
URL:https://bereanmacon.org/event/primetimers-museum-of-aviation/
CATEGORIES:Upcoming Events
END:VEVENT
BEGIN:VEVENT
DTSTART;TZID=America/New_York:20230806T170000
DTEND;TZID=America/New_York:20230806T190000
DTSTAMP:20260419T105230
CREATED:20230623T200712Z
LAST-MODIFIED:20230623T200712Z
UID:2310-1691341200-1691348400@bereanmacon.org
SUMMARY:Small Groups Fellowships
DESCRIPTION:
URL:https://bereanmacon.org/event/small-groups-fellowships-2/
CATEGORIES:Upcoming Events
END:VEVENT
BEGIN:VEVENT
DTSTART;TZID=America/New_York:20230730T180000
DTEND;TZID=America/New_York:20230730T190000
DTSTAMP:20260419T105230
CREATED:20230623T200618Z
LAST-MODIFIED:20230623T200618Z
UID:2308-1690740000-1690743600@bereanmacon.org
SUMMARY:Ladies'/Men's Meetings
DESCRIPTION:
URL:https://bereanmacon.org/event/ladies-mens-meetings-10/
CATEGORIES:Upcoming Events
END:VEVENT
BEGIN:VEVENT
DTSTART;TZID=America/New_York:20230730T100000
DTEND;TZID=America/New_York:20230730T120000
DTSTAMP:20260419T105230
CREATED:20230623T200530Z
LAST-MODIFIED:20230623T200530Z
UID:2306-1690711200-1690718400@bereanmacon.org
SUMMARY:Missionary Erik Johnson & Family
DESCRIPTION:
URL:https://bereanmacon.org/event/missionary-erik-johnson-family/
CATEGORIES:Upcoming Events
END:VEVENT
BEGIN:VEVENT
DTSTART;TZID=America/New_York:20230718T110000
DTEND;TZID=America/New_York:20230718T140000
DTSTAMP:20260419T105230
CREATED:20230623T200934Z
LAST-MODIFIED:20230623T200934Z
UID:2312-1689678000-1689688800@bereanmacon.org
SUMMARY:PrimeTimers - Lane Southern Orchards
DESCRIPTION:Browsing and lunch together; Meet at the church
URL:https://bereanmacon.org/event/primetimers-lane-southern-orchards-3/
CATEGORIES:Upcoming Events
END:VEVENT
BEGIN:VEVENT
DTSTART;TZID=America/New_York:20230716T190000
DTEND;TZID=America/New_York:20230716T193000
DTSTAMP:20260419T105230
CREATED:20230623T200430Z
LAST-MODIFIED:20230623T200430Z
UID:2304-1689534000-1689535800@bereanmacon.org
SUMMARY:Church Business Meeting
DESCRIPTION:At the close of the PM service
URL:https://bereanmacon.org/event/church-business-meeting/
CATEGORIES:Upcoming Events
END:VEVENT
BEGIN:VEVENT
DTSTART;TZID=America/New_York:20230709T110000
DTEND;TZID=America/New_York:20230709T120000
DTSTAMP:20260419T105230
CREATED:20230623T200208Z
LAST-MODIFIED:20230623T200208Z
UID:2302-1688900400-1688904000@bereanmacon.org
SUMMARY:Lord's Supper Service
DESCRIPTION:
URL:https://bereanmacon.org/event/lords-supper-service-21/
CATEGORIES:Upcoming Events
END:VEVENT
BEGIN:VEVENT
DTSTART;TZID=America/New_York:20230702T170000
DTEND;TZID=America/New_York:20230702T190000
DTSTAMP:20260419T105230
CREATED:20230623T200126Z
LAST-MODIFIED:20230623T200126Z
UID:2300-1688317200-1688324400@bereanmacon.org
SUMMARY:Independence Day Cookout
DESCRIPTION:Meet in the Fellowship Hall
URL:https://bereanmacon.org/event/independence-day-cookout/
CATEGORIES:Upcoming Events
END:VEVENT
BEGIN:VEVENT
DTSTART;VALUE=DATE:20230626
DTEND;VALUE=DATE:20230701
DTSTAMP:20260419T105230
CREATED:20230623T195956Z
LAST-MODIFIED:20230623T195956Z
UID:2298-1687737600-1688169599@bereanmacon.org
SUMMARY:Teen Extreme Camp!
DESCRIPTION:At Pensacola Christian College
URL:https://bereanmacon.org/event/teen-extreme-camp-2/
CATEGORIES:Upcoming Events
END:VEVENT
BEGIN:VEVENT
DTSTART;TZID=America/New_York:20230625T180000
DTEND;TZID=America/New_York:20230625T193000
DTSTAMP:20260419T105230
CREATED:20230623T195900Z
LAST-MODIFIED:20230623T195900Z
UID:2296-1687716000-1687721400@bereanmacon.org
SUMMARY:Ladies'/Men's Meetings
DESCRIPTION:
URL:https://bereanmacon.org/event/ladies-mens-meetings-9/
CATEGORIES:Upcoming Events
END:VEVENT
BEGIN:VEVENT
DTSTART;VALUE=DATE:20230409
DTEND;VALUE=DATE:20230413
DTSTAMP:20260419T105230
CREATED:20230210T161618Z
LAST-MODIFIED:20230210T161618Z
UID:2258-1680998400-1681343999@bereanmacon.org
SUMMARY:Resurrection Revival
DESCRIPTION:Spring revival services with Jim Schettler
URL:https://bereanmacon.org/event/resurrection-revival/
CATEGORIES:Upcoming Events
END:VEVENT
END:VCALENDAR